BEGIN:VCALENDAR
VERSION:2.0
PRODID:-//evangelische-termine.de//NONSGML kigkonsult.se iCalcreator 2.18//
CALSCALE:GREGORIAN
METHOD:PUBLISH
X-WR-CALNAME:iCal Evangelische-Termine 19.04.2026
X-WR-CALDESC:iCalender von Evangelische-Termine (19.04.2026)
X-WR-TIMEZONE:Europe/Berlin
X-MS-OLK-FORCEINSPECTOROPEN:TRUE
BEGIN:VTIMEZONE
TZID:Europe/Berlin
BEGIN:STANDARD
DTSTART:19701025T030000
TZOFFSETFROM:+0200
TZOFFSETTO:+0100
RRULE:FREQ=YEARLY;BYDAY=-1SU;BYMONTH=10
TZNAME:CET
END:STANDARD
BEGIN:DAYLIGHT
DTSTART:19700329T020000
TZOFFSETFROM:+0100
TZOFFSETTO:+0200
RRULE:FREQ=YEARLY;BYDAY=-1SU;BYMONTH=3
TZNAME:CEST
END:DAYLIGHT
END:VTIMEZONE
BEGIN:VEVENT
UID:20230301T190000-683732@evangelische-termine.de
DTSTAMP:20260419T155916Z
DESCRIPTION:\nKirchenkreis: überregional\nArt der Veranstaltung: Fortbildun
 gen / Seminare / Vorträge\nAusführliche Beschreibung: Wer vom Norden Irlan
 ds oder von „Nordirland” hört\, denkt unweigerlich an Bürger- oder Religio
 nskrieg\, an Konflikte und Auseinandersetzungen. Dass Nordirland aber eine
  Vielzahl landschaftlicher Reize und Schönheiten\, ungewöhnliche Küstenfor
 mationen und herrliche Gärten\, aber auch kunst- und kulturgeschichtlich E
 inmaliges zu bieten hat\, geht dabei meist verloren. Ihnen viele dieser we
 niger bekannten schönen Seiten dieses selten besuchten Teils der Insel\, g
 erade auch unter Einbeziehung der an Nordirland grenzenden Grafschaften de
 r Republik\, vorzustellen\, ist Anliegen dieser „Bilder-Reise“ von und mit
  Eckhard Ladner.\nDieser Vortrag dient auch der Vorbereitung für die vom 1
 4.5. bis 21.5.2023 stattfindende Studienreise auf die „Grüne Insel“.\nInte
 rnetadresse (eigene Infos im Internet): http://www.eeb-sued.de\nFörderbere
 ich: Internationales\, Völkerverständigung\, Multikulturelle Gesellschaft
 \nReferent/in: Eckhard W. Ladner\, Studien- und Programmleiter des Europäi
 schen Bildungs- und Begegnungszentrums (EBZ) Irland\nAnsprechpartner/in - 
 Leitung: Kirsten Arnswald\nKosten: kostenlos\nZusatzinformationen: Anmeldu
 ng bis 28.02.2023 an anmeldung@eeb-sued.de\, Stichwort 'Norden Irlands'.\n
 Nach Anmeldeschluss erhalten Sie einen Zoom-Link für den Vortrag\nAnsprech
 partner: Kirsten Arnswald karnswald@eeb-sued.de\n06761/7019
DTSTART;TZID=Europe/Berlin:20230301T190000
DTEND;TZID=Europe/Berlin:20230301T210000
LOCATION:Internet: nur Internet
SUMMARY:Der Norden Irlands – anders als man denkt (Online-Vortrag) :: Eine 
 Einführung in Kultur und Landschaft im Norden der „Grünen Insel” 
URL:https://termine.ekir.de/veranstaltung_im_detail683732.html
END:VEVENT
END:VCALENDAR
