BEGIN:VCALENDAR
VERSION:2.0
PRODID:-//evangelische-termine.de//NONSGML kigkonsult.se iCalcreator 2.18//
CALSCALE:GREGORIAN
METHOD:PUBLISH
X-WR-CALNAME:iCal Evangelische-Termine 19.04.2026
X-WR-CALDESC:iCalender von Evangelische-Termine (19.04.2026)
X-WR-TIMEZONE:Europe/Berlin
X-MS-OLK-FORCEINSPECTOROPEN:TRUE
BEGIN:VTIMEZONE
TZID:Europe/Berlin
BEGIN:STANDARD
DTSTART:19701025T030000
TZOFFSETFROM:+0200
TZOFFSETTO:+0100
RRULE:FREQ=YEARLY;BYDAY=-1SU;BYMONTH=10
TZNAME:CET
END:STANDARD
BEGIN:DAYLIGHT
DTSTART:19700329T020000
TZOFFSETFROM:+0100
TZOFFSETTO:+0200
RRULE:FREQ=YEARLY;BYDAY=-1SU;BYMONTH=3
TZNAME:CEST
END:DAYLIGHT
END:VTIMEZONE
BEGIN:VEVENT
UID:20230327T183000-687741@evangelische-termine.de
DTSTAMP:20260419T155906Z
DESCRIPTION:\nKirchenkreis: überregional\nArt der Veranstaltung: Fortbildun
 gen / Seminare / Vorträge\nVeranstaltungsort: Ev. Erwachsenenbildungswerk 
 Rheinland-Süd e.V.\, Simmern\nHerzog-Reichard-Str. 30\n55469 Simmern\nKurz
 beschreibung / Untertitel: Arie Rosen und Yedidija Toledano zeigen uns\, w
 ie man sich in Israel auf das Pessachfest vorbereitet und wie es gefeiert 
 wird.\nAusführliche Beschreibung: Pessach\, auch Passah genannt\, gehört z
 u den wichtigsten Feiertagen des Judentums. Höhepunkt des siebentägigen Fe
 stes ist der Sederabend\, der in den Familien begangen wird. Dazu gehören 
 ganz spezielle Speisen und Rituale\, Fragen und Symbole\, und vor allem da
 s Erzählen der Geschichte vom Auszug aus Ägypten. Denn Pessach erinnert an
  die Befreiung aus Knechtschaft und Unterdrückung\, unter der das jüdische
  Volk seit Jahrtausenden immer wieder gelitten und dennoch mit Gottes Hilf
 e überlebt hat. \nArie Rosen und Yedidija Toledano zeigen uns\, wie man si
 ch in Israel auf das Pessachfest vorbereitet und wie es gefeiert wird.\nFö
 rderbereich: Religiöse Bildung\, Religionen\, Theologie\, Ethik\, Grenzfra
 gen\nReferent/in: Arie Rosen und Yedidja Toledano (Jerusalem)\nMargit Bütt
 ner\nAnsprechpartner/in - Leitung: Margit Büttner\, Pfarrerin und Bildungs
 referentin im eeb\nKosten: freiwilliger Beitrag\nZusatzinformationen: Anme
 ldung bis 24.03.2023 an anmeldung@eeb.sued.de\, Stichwort „Pessach“ oder ü
 ber den Anmeldebutton\n: \nAnsprechpartner: Margit Büttner mbuettner@eeb-s
 ued.de\nTelefon 06761/7018
DTSTART;TZID=Europe/Berlin:20230327T183000
DTEND;TZID=Europe/Berlin:20230327T200000
LOCATION:Simmern: Ev. Erwachsenenbildungswerk Rheinland-Süd e.V.\, Simmern
SUMMARY:Pessach- von der Sklaverei in die Freiheit :: Pessach\, auch Passah
  genannt\, gehört zu den wichtigsten Feiertagen des Judentums. 
URL:https://termine.ekir.de/veranstaltung_im_detail687741.html
END:VEVENT
END:VCALENDAR
