BEGIN:VCALENDAR
VERSION:2.0
PRODID:-//evangelische-termine.de//NONSGML kigkonsult.se iCalcreator 2.18//
CALSCALE:GREGORIAN
METHOD:PUBLISH
X-WR-CALNAME:iCal Evangelische-Termine 19.04.2026
X-WR-CALDESC:iCalender von Evangelische-Termine (19.04.2026)
X-WR-TIMEZONE:Europe/Berlin
X-MS-OLK-FORCEINSPECTOROPEN:TRUE
BEGIN:VTIMEZONE
TZID:Europe/Berlin
BEGIN:STANDARD
DTSTART:19701025T030000
TZOFFSETFROM:+0200
TZOFFSETTO:+0100
RRULE:FREQ=YEARLY;BYDAY=-1SU;BYMONTH=10
TZNAME:CET
END:STANDARD
BEGIN:DAYLIGHT
DTSTART:19700329T020000
TZOFFSETFROM:+0100
TZOFFSETTO:+0200
RRULE:FREQ=YEARLY;BYDAY=-1SU;BYMONTH=3
TZNAME:CEST
END:DAYLIGHT
END:VTIMEZONE
BEGIN:VEVENT
UID:20230630T100000-692404@evangelische-termine.de
DTSTAMP:20260419T160756Z
DESCRIPTION:\nKirchenkreis: überregional\nArt der Veranstaltung: Freizeiten
  / Reisen\nVeranstaltungsort: Wanderparkplatz Schönecken\nLindenstraße 6a
 \n54614 Schönecken\nKurzbeschreibung / Untertitel: Unterwegs auf dem Jakob
 sweg\nAusführliche Beschreibung: Auf dem Jakobsweg unterwegs in der Eifel 
 mit ökumenischen Inhalten und Impulsen orientiert an den Gemeinsamkeiten b
 eider Glaubensrichtungen.\nProgramm: \nFreitag\, 30.06.23\, 10.00 Uhr\; Tr
 effpunkt Wanderparkplatz in Schönecken \nWanderung bis Waxweiler (14 km). 
 Abendessen (im Hotel „Am Schwimmbad) nach Karte und auf eigene Kosten. ÜN 
 in DZ inkl. Frühstück + Lunchpaket\nSamstag\, 01.07.23 nach dem Frühstück 
 Aufbruch nach Neuerburg (ca. 16 km)\; ÜN im Euvea Hotel\, abends: Dinnerbu
 ffet\, inkl. Frühstück + Lunchpaket\nSonntag\, 02.07.23 nach dem Frühstück
  weiter nach Mettendorf (ca. 10 km)\; Ausklang in der Mittagszeit/früher N
 achmittag. Im Anschluss Rücktransport der Fahrer nach Schönecken.\nInterne
 tadresse (eigene Infos im Internet): https://eeb-sued.de/wp-content/upload
 s/2023/03/Oekumenische-Pilgertage-2023.pdf\nFörderbereich: Religiöse Bildu
 ng\, Religionen\, Theologie\, Ethik\, Grenzfragen\nReferent/in: Maria Kirs
 t (Pilgergruppenleitende)\,\nAnsprechpartner/in - Leitung: Wolfgang Vierbu
 chen (KEB Westeifel)\,  \nMarkus Becker (KEB RHN)\,  \nKirsten Arnswald (E
 EB Rheinland Süd)\, \nMargit Büttner (EEB Rheinland Süd)\nKosten: ca. 100\
 ,– €/Person für Programm und Unterbringung (in DZ)\; siehe Programm\nZusat
 zinformationen: Ein Kooperationsprojekt der \nKatholische Erwachsenenbildu
 ng Mittelmosel\nKatholische Erwachsenenbildung Rhein-Hunsrück-Nahe\nund de
 s Ev. Erwachsenenbildungswerk Rheinland-Süd e.V.\n\nAnmeldung bis zum 12.0
 6.2023\n: 
DTSTART;TZID=Europe/Berlin:20230630T100000
DTEND;TZID=Europe/Berlin:20230702T170000
LOCATION:Schönecken: Wanderparkplatz Schönecken
SUMMARY:Ökumenische Pilgertage in der Eifel :: Unterwegs auf dem Jakobsweg
URL:https://termine.ekir.de/veranstaltung_im_detail692404.html
END:VEVENT
END:VCALENDAR
