BEGIN:VCALENDAR
VERSION:2.0
PRODID:-//evangelische-termine.de//NONSGML kigkonsult.se iCalcreator 2.18//
CALSCALE:GREGORIAN
METHOD:PUBLISH
X-WR-CALNAME:iCal Evangelische-Termine 19.04.2026
X-WR-CALDESC:iCalender von Evangelische-Termine (19.04.2026)
X-WR-TIMEZONE:Europe/Berlin
X-MS-OLK-FORCEINSPECTOROPEN:TRUE
BEGIN:VTIMEZONE
TZID:Europe/Berlin
BEGIN:STANDARD
DTSTART:19701025T030000
TZOFFSETFROM:+0200
TZOFFSETTO:+0100
RRULE:FREQ=YEARLY;BYDAY=-1SU;BYMONTH=10
TZNAME:CET
END:STANDARD
BEGIN:DAYLIGHT
DTSTART:19700329T020000
TZOFFSETFROM:+0100
TZOFFSETTO:+0200
RRULE:FREQ=YEARLY;BYDAY=-1SU;BYMONTH=3
TZNAME:CEST
END:DAYLIGHT
END:VTIMEZONE
BEGIN:VEVENT
UID:20230427T190000-692405@evangelische-termine.de
DTSTAMP:20260419T160849Z
DESCRIPTION:\nKirchenkreis: Obere Nahe\nArt der Veranstaltung: Sonstiges\nV
 eranstaltungsort: Pfarrscheune Niederbrombach\nHerrengasse 10a\n55767 Nied
 erbrombach\nKurzbeschreibung / Untertitel: Filmvortrag in der Pfarrscheune
 \nAusführliche Beschreibung: Am 27. April jährt sich der Todestag der deut
 schen Theologin Dorothee Sölle zum 20. Mal. Zum Gedenken an ihr Wirken läd
 t der Fachausschuss für Frauenfragen zu einem Filmabend in die Pfarrscheun
 e ein.\nDer Film soll die Erinnerung an diese streitbare evangelische Theo
 login verdeutlichen und beleben. \nDorothee Sölle (1929-2003) war nicht nu
 r bekannt für ihr politisches und feministisches Engagement\, sondern besc
 häftigte sich auch zeitlebens mit den Texten der großen Mystiker. „Die Rel
 igion des dritten Jahrhunderts wird mystisch sein oder absterben“\, lautet
  einer ihrer berühmten Sätze. Als zeitgemäße Spiritualität konnte sie sich
  nur eine individuelle Gotteserfahrung jenseits von blind übernommenen Tra
 ditionen vorstellen. Die bildgewaltige Sprache der Mystiker diente ihr daf
 ür als Vorbild\, etwa Mechthild von Magdeburg oder Thomas Müntzer\, die – 
 wie sie – ebenfalls aufsässige Geister waren. Mystik und Widerstand – so S
 ölles Entdeckung - müssen keine Gegensätze sein: gerade die Erfahrung des 
 „göttlichen Funkens“ kann ein Impuls für soziales und politisches Engageme
 nt werden.\nInternetadresse (eigene Infos im Internet): https://www.obere-
 nahe.de/nachricht/filmvortrag-zum-20-todestag-von-dorothee-soelle\nFörderb
 ereich: Religiöse Bildung\, Religionen\, Theologie\, Ethik\, Grenzfragen\n
 Ansprechpartner/in - Leitung: Fachausschuss für Frauenfragen Kirchenkreis 
 Obere Nahe\nKosten: kostenlos\nZusatzinformationen: Anmeldung ist nicht er
 forderlich
DTSTART;TZID=Europe/Berlin:20230427T190000
DTEND;TZID=Europe/Berlin:20230427T200000
LOCATION:Niederbrombach: Pfarrscheune Niederbrombach
SUMMARY:Filmvortrag zum 20. Todestag von Dorothee Sölle in Niederbrombach
URL:https://termine.ekir.de/veranstaltung_im_detail692405.html
END:VEVENT
END:VCALENDAR
