BEGIN:VCALENDAR
VERSION:2.0
PRODID:-//evangelische-termine.de//NONSGML kigkonsult.se iCalcreator 2.18//
CALSCALE:GREGORIAN
METHOD:PUBLISH
X-WR-CALNAME:iCal Evangelische-Termine 19.04.2026
X-WR-CALDESC:iCalender von Evangelische-Termine (19.04.2026)
X-WR-TIMEZONE:Europe/Berlin
X-MS-OLK-FORCEINSPECTOROPEN:TRUE
BEGIN:VTIMEZONE
TZID:Europe/Berlin
BEGIN:STANDARD
DTSTART:19701025T030000
TZOFFSETFROM:+0200
TZOFFSETTO:+0100
RRULE:FREQ=YEARLY;BYDAY=-1SU;BYMONTH=10
TZNAME:CET
END:STANDARD
BEGIN:DAYLIGHT
DTSTART:19700329T020000
TZOFFSETFROM:+0100
TZOFFSETTO:+0200
RRULE:FREQ=YEARLY;BYDAY=-1SU;BYMONTH=3
TZNAME:CEST
END:DAYLIGHT
END:VTIMEZONE
BEGIN:VEVENT
UID:20230708T101700-695893@evangelische-termine.de
DTSTAMP:20260419T160757Z
DESCRIPTION:\nKirchenkreis: überregional\nArt der Veranstaltung: Fortbildun
 gen / Seminare / Vorträge\nVeranstaltungsort: Evangelische Bücherei Kirchb
 erg\nSimmerner Straße 25\n55481 Kirchberg\nKurzbeschreibung / Untertitel: 
 Studientag Bestandsaufbau\, Bestandspflege und Sichtungsinstrumente\nAusfü
 hrliche Beschreibung: Die Regale sind voller Bücher und Sie wissen nicht s
 o genau\, wie Sie vorgehen sollen beim Aussortieren Ihres Bestandes? Wo un
 d wie finden wir neue Literatur\, die für unsere Leser*innen geeignet ist?
  Wie können wir beurteilen\, was gut ist und worauf wir gut verzichten kön
 nen in unseren Büchereien? Und für wen kaufen wir eigentlich ein? \nMit di
 esen Fragen beschäftigen wir uns in diesem Studientag.\nDieser Studientag 
 ist Teil des Qualifizierungskurses 'Fit für die Büchereiarbeit'.\nFörderbe
 reich: Ehrenamt\nReferent/in: Judith Schumacher\, Büchereileiterin in Pude
 rbach\nAnsprechpartner/in - Leitung: Helena Schäuble\nKosten: 20\,– €\nZus
 atzinformationen: Die Teilnahmegebühr für die Studientage beträgt jeweils 
 20€. In dieser Gebühr ist kein Mittagessen enthalten. Dieses wird vor Ort 
 vom Team angeboten und mit Ihnen abgerechnet.\nBitte melden Sie sich für d
 iese Studientag bis zum 24.06.2023 verbindlich an. Eine Anmeldung ist auch
  per Mail möglich an: anmeldung@eeb-sued.de mit dem Betreff Qualifizierung
 skurs Büchereien 08.07.2023\n: 
DTSTART;TZID=Europe/Berlin:20230708T101700
DTEND;TZID=Europe/Berlin:20230708T111700
LOCATION:Kirchberg: Evangelische Bücherei Kirchberg
SUMMARY:Qualifizierungskurs Fit für die Büchereiarbeit ::  Bestandsaufbau\,
  Bestandspflege und Sichtungsinstrumente
URL:https://termine.ekir.de/veranstaltung_im_detail695893.html
END:VEVENT
END:VCALENDAR
