BEGIN:VCALENDAR
VERSION:2.0
PRODID:-//evangelische-termine.de//NONSGML kigkonsult.se iCalcreator 2.18//
CALSCALE:GREGORIAN
METHOD:PUBLISH
X-WR-CALNAME:iCal Evangelische-Termine 19.04.2026
X-WR-CALDESC:iCalender von Evangelische-Termine (19.04.2026)
X-WR-TIMEZONE:Europe/Berlin
X-MS-OLK-FORCEINSPECTOROPEN:TRUE
BEGIN:VTIMEZONE
TZID:Europe/Berlin
BEGIN:STANDARD
DTSTART:19701025T030000
TZOFFSETFROM:+0200
TZOFFSETTO:+0100
RRULE:FREQ=YEARLY;BYDAY=-1SU;BYMONTH=10
TZNAME:CET
END:STANDARD
BEGIN:DAYLIGHT
DTSTART:19700329T020000
TZOFFSETFROM:+0100
TZOFFSETTO:+0200
RRULE:FREQ=YEARLY;BYDAY=-1SU;BYMONTH=3
TZNAME:CEST
END:DAYLIGHT
END:VTIMEZONE
BEGIN:VEVENT
UID:20230907T183000-701744@evangelische-termine.de
DTSTAMP:20260419T160712Z
DESCRIPTION:\nKirchenkreis: überregional\nArt der Veranstaltung: Fortbildun
 gen / Seminare / Vorträge\nVeranstaltungsort: online\n- -\nAusführliche Be
 schreibung: Basics. Um mehr kann es nicht gehen in einem Kurs\, der in nur
  zweimal fünf Einheiten eine Einführung in das Buch der Bücher geben will.
  Um weniger aber auch nicht.\nFür alle\, die den Kurs im letzten Jahr verp
 asst haben\, ist das die Gelegenheit\, miteinander die Bibel kennenzulerne
 n und ihr viele Fragen zu stellen: Was ist überhaupt die Bibel? Wer hat si
 e geschrieben? Worum geht es? Wo finde ich was? Was geht mich das an?\nDie
  Kursabende finden online statt\, so dass Sie bequem von zuhause aus teiln
 ehmen können.\nSie umfassen jeweils zwei Zeitstunden. Die Einheiten 1 – 5 
 widmen sich dem Alten Testament\, in 6 – 10 soll es um das Neue Testament 
 gehen.\nDer Kursverlauf folgt keiner starren Planung\, sondern berücksicht
 igt Ihre Fragen und Interessen. Die folgenden Stichworte dienen daher nur 
 der vorläufigen Orientierung:\n\nAltes Testament: \n• Was die Urgeschichte
  über den Menschen sagt. \n• Ein Gott\, der mitgeht. Vom Exodus bis zum Ex
 il\n• Psalmen: Die Bibel als Gebetbuch. \n• Menschliches Leid: Hiob. \n• W
 as sind Propheten?\n\nNeues Testament: \n• Wer war Jesus? \n• Entstehung u
 nd Inhalt der Evangelien\n• Das Johannesevangelium und das Problem des Ant
 ijudaismus\n• Anfänge des Christentums: Apostelgeschichte und Briefe.\n• E
 in Buch mit sieben Siegeln? Bildwelt der Offenbarung. \n\nJemand hat einma
 l gesagt\, die Bibel sei für ihn wie eine Landschaft mit Tälern und Hügeln
 \, weiten Ebenen und Felsen\, belebenden Quellen und stillen Seen. \nEin t
 reffendes Bild. Schauen wir uns in dieser Landschaft um und erkunden sie g
 emeinsam. Die Kursleitung kann dabei nur ein „Guide“ sein. In der Landscha
 ft bewegen müssen wir uns selber\, um sie kennenzulernen und uns gegenseit
 ig auf ihre Schönheiten und Eigenheiten aufmerksam zu machen. Der Austausc
 h untereinander ist daher genauso wichtig wie der informative Anteil. \nSi
 e brauchen kein Vorwissen. Sie müssen nicht fromm sein. Ihr Wunsch\, mehr 
 zu erfahren und sich gemeinsam mit anderen auf diesen Weg zu machen\, ist 
 die einzige Voraussetzung zur Teilnahme.\n\nTermine: \nDonnerstags\, 18.30
 -20.30 Uhr\nTeil 1: 14.09.2023\, 28.09.2023\, 12.10.2023\, 02.11.2023\, 16
 .11.02023\nTeil 2: 30.11.2023\, 14.12.2023\, 04.01.2024\, 18.01.2024\, 01.
 02.2024\n\nSchnuppertermin: 07.09.2023\, 18.30-19.30 Uhr \n\nDen Zugangsli
 nk zur Veranstaltung erhalten Sie einige Tage vor Beginn des Kurses.\nInte
 rnetadresse (eigene Infos im Internet): http://www.eeb-sued.de\nFörderbere
 ich: Theologie/Religion\nReferent/in: Margit Büttner\, Pfarrerin\, Bildung
 sreferentin im Evangelischen Erwachsenenbildungswerk Rheinland-Süd e.V.\nA
 nsprechpartner/in - Leitung: Margit Büttner\, Pfarrerin\, Bildungsreferent
 in im Evangelischen Erwachsenenbildungswerk Rheinland-Süd e.V.\nKosten: Sc
 hnuppertermin kostenlos\nZusatzinformationen: Anmeldung bis 4.9.\n: 
DTSTART;TZID=Europe/Berlin:20230907T183000
DTEND;TZID=Europe/Berlin:20230907T193000
LOCATION:-: online
SUMMARY:Schnuppertermin für Bibel-Basics. Was ich schon immer wissen wollte
 .
URL:https://termine.ekir.de/veranstaltung_im_detail701744.html
END:VEVENT
END:VCALENDAR
