BEGIN:VCALENDAR
VERSION:2.0
PRODID:-//evangelische-termine.de//NONSGML kigkonsult.se iCalcreator 2.18//
CALSCALE:GREGORIAN
METHOD:PUBLISH
X-WR-CALNAME:iCal Evangelische-Termine 19.04.2026
X-WR-CALDESC:iCalender von Evangelische-Termine (19.04.2026)
X-WR-TIMEZONE:Europe/Berlin
X-MS-OLK-FORCEINSPECTOROPEN:TRUE
BEGIN:VTIMEZONE
TZID:Europe/Berlin
BEGIN:STANDARD
DTSTART:19701025T030000
TZOFFSETFROM:+0200
TZOFFSETTO:+0100
RRULE:FREQ=YEARLY;BYDAY=-1SU;BYMONTH=10
TZNAME:CET
END:STANDARD
BEGIN:DAYLIGHT
DTSTART:19700329T020000
TZOFFSETFROM:+0100
TZOFFSETTO:+0200
RRULE:FREQ=YEARLY;BYDAY=-1SU;BYMONTH=3
TZNAME:CEST
END:DAYLIGHT
END:VTIMEZONE
BEGIN:VEVENT
UID:20230914T183000-701753@evangelische-termine.de
DTSTAMP:20260419T160758Z
DESCRIPTION:\nKirchenkreis: überregional\nArt der Veranstaltung: Fortbildun
 gen / Seminare / Vorträge\nVeranstaltungsort: online\n- -\nKurzbeschreibun
 g / Untertitel: Online-Bibelkurs in zweimal fünf Teilen\nAusführliche Besc
 hreibung: Basics. Um mehr kann es nicht gehen in einem Kurs\, der in nur z
 weimal fünf Einheiten eine Einführung in das Buch der Bücher geben will. U
 m weniger aber auch nicht.\nFür alle\, die den Kurs im letzten Jahr verpas
 st haben\, ist das die Gelegenheit\, miteinander die Bibel kennenzulernen 
 und ihr viele Fragen zu stellen: Was ist überhaupt die Bibel? Wer hat sie 
 geschrieben? Worum geht es? Wo finde ich was? Was geht mich das an?\nDie K
 ursabende finden online statt\, so dass Sie bequem von zuhause aus teilneh
 men können.\nSie umfassen jeweils zwei Zeitstunden. Die Einheiten 1 – 5 wi
 dmen sich dem Alten Testament\, in 6 – 10 soll es um das Neue Testament ge
 hen.\nDer Kursverlauf folgt keiner starren Planung\, sondern berücksichtig
 t Ihre Fragen und Interessen. Die folgenden Stichworte dienen daher nur de
 r vorläufigen Orientierung:\n\nAltes Testament: \n- Was die Urgeschichte ü
 ber den Menschen sagt. \n- Ein Gott\, der mitgeht. Vom Exodus bis zum Exil
 \n- Psalmen: Die Bibel als Gebetbuch. \n- Menschliches Leid: Hiob. \n- Was
  sind Propheten?\n\nNeues Testament: \n- Wer war Jesus? \n- Entstehung und
  Inhalt der Evangelien\n- Das Johannesevangelium und das Problem des Antij
 udaismus\n- Anfänge des Christentums: Apostelgeschichte und Briefe.\n- Ein
  Buch mit sieben Siegeln? Bildwelt der Offenbarung. \n\nJemand hat einmal 
 gesagt\, die Bibel sei für ihn wie eine Landschaft mit Tälern und Hügeln\,
  weiten Ebenen und Felsen\, belebenden Quellen und stillen Seen. \nEin tre
 ffendes Bild. Schauen wir uns in dieser Landschaft um und erkunden sie gem
 einsam. Die Kursleitung kann dabei nur ein „Guide“ sein. In der Landschaft
  bewegen müssen wir uns selber\, um sie kennenzulernen und uns gegenseitig
  auf ihre Schönheiten und Eigenheiten aufmerksam zu machen. Der Austausch 
 untereinander ist daher genauso wichtig wie der informative Anteil. \nSie 
 brauchen kein Vorwissen. Sie müssen nicht fromm sein. Ihr Wunsch\, mehr zu
  erfahren und sich gemeinsam mit anderen auf diesen Weg zu machen\, ist di
 e einzige Voraussetzung zur Teilnahme.\n\nTermine: \nDonnerstags\, 18.30-2
 0.30 Uhr\nTeil 1: 14.09.2023\, 28.09.2023\, 12.10.2023\, 02.11.2023\, 16.1
 1.02023\nTeil 2: 30.11.2023\, 14.12.2023\, 04.01.2024\, 18.01.2024\, 01.02
 .2024\n\nFür Unentschlossene gibt es einen Termin zum Schnuppern am 07.09.
 2023\, 18.30-19.30 Uhr \n\nDen Zugangslink zur Veranstaltung erhalten Sie 
 einige Tage vor Beginn des Kurses.\n\nWegen Überbuchung jetzt ein Zusatzan
 gebot auch montags!\nInternetadresse (eigene Infos im Internet): http://ww
 w.eeb-sued.de\nFörderbereich: Theologie/Religion\nReferent/in: Margit Bütt
 ner\, Pfarrerin\, Bildungsreferentin im Evangelischen Erwachsenenbildungsw
 erk Rheinland-Süd e.V.\nAnsprechpartner/in - Leitung: Margit Büttner\, Pfa
 rrerin\, Bildungsreferentin im Evangelischen Erwachsenenbildungswerk Rhein
 land-Süd e.V.\nKosten: Teil 1: 25\,00 Euro\, Teil 2: 25\,00 Euro\nZusatzin
 formationen: Anmeldung für Teil 1 bis 08.09.2023\; für Teil 2 bis 20.11.20
 23\n: 
DTSTART;TZID=Europe/Berlin:20230914T183000
DTEND;TZID=Europe/Berlin:20230914T203000
LOCATION:-: online
RRULE:FREQ=DAILY;UNTIL=20240201T235900Z;INTERVAL=1;WKST=SU
SUMMARY:Bibel-Basics – Was ich schon immer wissen wollte. (ausgebucht)
URL:https://termine.ekir.de/veranstaltung_im_detail701753.html
END:VEVENT
END:VCALENDAR
