BEGIN:VCALENDAR
VERSION:2.0
PRODID:-//evangelische-termine.de//NONSGML kigkonsult.se iCalcreator 2.18//
CALSCALE:GREGORIAN
METHOD:PUBLISH
X-WR-CALNAME:iCal Evangelische-Termine 19.04.2026
X-WR-CALDESC:iCalender von Evangelische-Termine (19.04.2026)
X-WR-TIMEZONE:Europe/Berlin
X-MS-OLK-FORCEINSPECTOROPEN:TRUE
BEGIN:VTIMEZONE
TZID:Europe/Berlin
BEGIN:STANDARD
DTSTART:19701025T030000
TZOFFSETFROM:+0200
TZOFFSETTO:+0100
RRULE:FREQ=YEARLY;BYDAY=-1SU;BYMONTH=10
TZNAME:CET
END:STANDARD
BEGIN:DAYLIGHT
DTSTART:19700329T020000
TZOFFSETFROM:+0100
TZOFFSETTO:+0200
RRULE:FREQ=YEARLY;BYDAY=-1SU;BYMONTH=3
TZNAME:CEST
END:DAYLIGHT
END:VTIMEZONE
BEGIN:VEVENT
UID:20230715T101500-701757@evangelische-termine.de
DTSTAMP:20260419T160713Z
DESCRIPTION:\nKirchenkreis: überregional\nArt der Veranstaltung: Fortbildun
 gen / Seminare / Vorträge\nVeranstaltungsort: Innenstadt Trier\n54290 Trie
 r\nAusführliche Beschreibung: Nach dem Ende des römischen Reiches hat das 
 Christentum Trier und das gesamte Rheinland geprägt. Die historische Entwi
 cklung der Stadt\, die aufs engste mit der Kirche verbunden war\, spiegelt
  sich bis heute nachvollziehbar in ihren Gotteshäusern. Einige davon werde
 n wir während der Tagesexkursion besuchen. So gewinnen wir Einblicke sowoh
 l in die Baugeschichte als auch in die Geschichte des Christentums und sei
 ner Theologie. \nTreffpunkt und Start der Tour ist das Café Basilica an de
 r Konstantinbasilika.\nNach der Besichtigung der Basilika haben wir Zugang
  zu den Ausgrabungen\, die normalerweise nicht für Publikum geöffnet sind.
 \nWeiter geht es zur Porta Nigra\, zum Markt und zur Kirche St. Gangolf. 
 \nNach der Mittagspause stehen Dom\, Liebfrauen und die Jesuitenkirche auf
  dem Programm sowie zum Abschluss ein kurzer Blick in das Geburtshaus des 
 Trierer Reformators Caspar Olevian\, damals eine Bäckerei\, heute ein Mode
 geschäft.\nAls ortskundiger Referent begleitet uns Dr. Andreas Mühling\, P
 rofessor für Evangelische Kirchengeschichte und Leiter des Ökumenischen In
 stitutes für interreligiösen Dialog an der Universität Trier.  \nAlle Wege
  werden zu Fuß gegangen.\nEine Mittagspause von ca. 90 Minuten ist eingepl
 ant.\nDie Tour beginnt um 10.15 Uhr und endet voraussichtlich um 16.15 Uhr
 .\nDie Anreise erfolgt individuell mit Bahn oder PKW\, nach Absprache auch
  in Fahrgemeinschaften.\nInternetadresse (eigene Infos im Internet): https
 ://eeb-sued.de/veranstaltungen/?etID=701757&until=no\nFörderbereich: Theol
 ogie/Religion\nReferent/in: Prof. Dr. Andreas Mühling\nAnsprechpartner/in 
 - Leitung: Margit Büttner\, eeb-Rheinland-Süd e.V.\nKosten: 40\,– €\nZusat
 zinformationen: Anmeldung bis 28.06.2023 an anmeldung@eeb-sued.de\,  Stich
 wort Exkursion Trier\n(Bitte geben Sie bei der Anmeldung Ihre vollständige
  Adresse an. Ihre Daten werden vertraulich behandelt.)\n: \nAnsprechpartne
 r: Margit Büttner mbuettner@eeb-sued.de\nTelefon 06761/7018
DTSTART;TZID=Europe/Berlin:20230715T101500
DTEND;TZID=Europe/Berlin:20230715T161500
LOCATION:Trier: Innenstadt Trier
SUMMARY:Von den Römern bis zur Reformation – Tagesexkursion in die Kircheng
 eschichte von Trier
URL:https://termine.ekir.de/veranstaltung_im_detail701757.html
END:VEVENT
END:VCALENDAR
