BEGIN:VCALENDAR
VERSION:2.0
PRODID:-//evangelische-termine.de//NONSGML kigkonsult.se iCalcreator 2.18//
CALSCALE:GREGORIAN
METHOD:PUBLISH
X-WR-CALNAME:iCal Evangelische-Termine 20.04.2026
X-WR-CALDESC:iCalender von Evangelische-Termine (20.04.2026)
X-WR-TIMEZONE:Europe/Berlin
X-MS-OLK-FORCEINSPECTOROPEN:TRUE
BEGIN:VTIMEZONE
TZID:Europe/Berlin
BEGIN:STANDARD
DTSTART:19701025T030000
TZOFFSETFROM:+0200
TZOFFSETTO:+0100
RRULE:FREQ=YEARLY;BYDAY=-1SU;BYMONTH=10
TZNAME:CET
END:STANDARD
BEGIN:DAYLIGHT
DTSTART:19700329T020000
TZOFFSETFROM:+0100
TZOFFSETTO:+0200
RRULE:FREQ=YEARLY;BYDAY=-1SU;BYMONTH=3
TZNAME:CEST
END:DAYLIGHT
END:VTIMEZONE
BEGIN:VEVENT
UID:20230523T130000-703681@evangelische-termine.de
DTSTAMP:20260420T214612Z
DESCRIPTION:\nVeranstalterin: Evangelische Akademie im Rheinland\nThemenber
 eich : Kirche und digitaler Wandel \nKurzbeschreibung: Impulse zu Aspekten
  digitaler Lebenswelten.\nMehr Informationen: Der „Online-Stammtisch Jugen
 darbeit & digitale Lebenswelten“ gibt Mitarbeitenden im Bereich der Jugend
 arbeit Impulse zu verschiedenen Themen der Netzwelt.\n\nDas Thema Künstlic
 he Intelligenz ist in den letzten Monaten rasant in der Konsument:innenwel
 t  eskaliert und war lange von Mega-Konzernen vorbereitet. Nils Kruse (Amt
  für Jugendarbeit der EKiR) hat mittlerweile einige KI-Tools ausprobiert u
 nd stellt vor\, wie anhand eines vorformulierten Chat-Prompts ganz konkret
  und „gemeinsam“ mit der KI die Planung und Ausschreibung einer Jugendfrei
 zeit generiert werden kann.\n\nNach diesem ersten praktischen Erkundungstr
 ip wird Nils Kruse zudem auf Jugendliche zielende kommerzielle KI-Phänomen
 e eingehen\, die äußerst bedenklich sind und die er gerne mit den Teilnehm
 enden andiskutieren möchte. \n\nModeration: Bettina Förster\nKooperationsp
 artner:innen : Der „Online-Stammtisch Jugendarbeit & digitale Lebenswelten
 “ ist ein gemeinsames Angebot des Amts für Jugendarbeit der EKiR und der E
 vangelischen Akademie im Rheinland.\nAnmeldung und praktische Hinweise: Wi
 r nutzen die Videokonferenz-Software Zoom.  \nAnmeldung per Mail an: kruse
 @afj-ekir.de\nAnmeldung bis 11 Uhr am 23. Mai möglich.\nKosten: Die Teilna
 hme ist gebührenfrei. Wir freuen uns über eine verbindliche Anmeldung.\nAn
 sprechpartner:in: Dr. Bettina Förster\, Studienleiterin und Öffentlichkeit
 sbeauftragte\nThemenbereich: Kirche und digitaler Wandel\nhttps://kirche-u
 nd-digitaler-wandel.ekir.de/\nTel.: 0228 479898-50\nVeranstaltungsort: Onl
 ine\n00000 Internet\nInternetadresse: https://www.ev-akademie-rheinland.de
 \nE-Mail: info@akademie.ekir.de\nZielgruppe: Es sind alle eingeladen\, die
  sich für das Themenfeld interessieren.
DTSTART;TZID=Europe/Berlin:20230523T130000
DTEND;TZID=Europe/Berlin:20230523T140000
LOCATION:Internet: Online
SUMMARY:Online-Stammtisch Jugendarbeit :: Impulsthema: KI in der Jugendarbe
 it?
URL:https://termine.ekir.de/veranstaltung_im_detail703681.html
END:VEVENT
END:VCALENDAR
