BEGIN:VCALENDAR
VERSION:2.0
PRODID:-//evangelische-termine.de//NONSGML kigkonsult.se iCalcreator 2.18//
CALSCALE:GREGORIAN
METHOD:PUBLISH
X-WR-CALNAME:iCal Evangelische-Termine 21.04.2026
X-WR-CALDESC:iCalender von Evangelische-Termine (21.04.2026)
X-WR-TIMEZONE:Europe/Berlin
X-MS-OLK-FORCEINSPECTOROPEN:TRUE
BEGIN:VTIMEZONE
TZID:Europe/Berlin
BEGIN:STANDARD
DTSTART:19701025T030000
TZOFFSETFROM:+0200
TZOFFSETTO:+0100
RRULE:FREQ=YEARLY;BYDAY=-1SU;BYMONTH=10
TZNAME:CET
END:STANDARD
BEGIN:DAYLIGHT
DTSTART:19700329T020000
TZOFFSETFROM:+0100
TZOFFSETTO:+0200
RRULE:FREQ=YEARLY;BYDAY=-1SU;BYMONTH=3
TZNAME:CEST
END:DAYLIGHT
END:VTIMEZONE
BEGIN:VEVENT
UID:20230915T160000-705749@evangelische-termine.de
DTSTAMP:20260421T125333Z
DESCRIPTION:\nOrt: Ev. Kirchengemeinde Wettenberg/Gemeindehaus Krofdorf\nRo
 dheimer Straße 23\n35435 Wettenberg\nBeschreibung: Workshop in Kooperation
  mit der Evangelischen Akademie im Rheinland\nArt der Veranstaltung: Sonst
 iges\nInternetadresse (eigene Infos im Internet): https://redstorage.ekir.
 de/lib/4994dc77-75c4-4751-9124-3bd44914341f/file/Bilder%20der%20Zukunft%20
 -%20Die%20Kirche%20im%20Dorf-Flyer_A5.pdf (Veranstaltungsflyer)\nEmail: bi
 ldungsreferat.lahnunddill@ekir.de\nAnsprechpartner: Bildungsreferenten bil
 dungsreferat.lahnunddill@ekir.de\nWeitere Informationen: Viele machen sich
  Gedanken über die Zukunft unserer Kirche\, allerdings sind wir bei unsere
 m Nachdenken oft sehr stark bestimmt von Zahlen\, Statistiken und dem klei
 nen Wörtlein 'noch'. Bei dieser Veranstaltung soll von einem anderen Ansat
 z her gedacht werden: Welche Vorstellungen haben wir von der Kirche\, an d
 er wir bauen wollen\, welche Bilder der Zukunft für die Kirche im Dorf? \n
 Diesen Themen gehen wir in einem zweitägigen Workshop nach. Dabei gibt es 
 neben Impulsen und Diskussionen besonders Raum für Ihre Ideen\; Fragestell
 ungen und die Themen\, zu denen Sie sich austauschen möchten. \nDazu könne
 n Sie im Anmeldebogen gerne bereits ein Thema nennen\, über das Sie sich a
 n dem zweitägigen Workshop in einer Kleingruppe austauschen möchten. Darüb
 er hinaus gibt es auch die Möglichkeit\, am ersten Workshoptag noch ein Th
 ema einzubringen.\n\nWir erheben einen Kostenbeitrag von 30 Euro brutto (i
 nkl. Verpflegung).\n\nBitte melden Sie sich bis zum 28. August 2023 verbin
 dlich an.\n\nFalls Sie eine Unterkunft benötigen\, unterstützen wir Sie ge
 rn.\nBei Rückfragen wenden Sie sich bitte an Frau Schleicher unter\nbildun
 gsreferat.lahnunddill@ekir.de oder 06441/4009-38.
DTSTART;TZID=Europe/Berlin:20230915T160000
DTEND;TZID=Europe/Berlin:20230916T160000
LOCATION:Wettenberg: Ev. Kirchengemeinde Wettenberg/Gemeindehaus Krofdorf
SUMMARY:Bilder der Zukunft - die Kirche im Dorf :: Freitag von 16:00 bis 20
 :30 Uhr\; Samstag von 09:30 bis 16:00 Uhr
URL:https://termine.ekir.de/veranstaltung_im_detail705749.html
END:VEVENT
END:VCALENDAR
