BEGIN:VCALENDAR
VERSION:2.0
PRODID:-//evangelische-termine.de//NONSGML kigkonsult.se iCalcreator 2.18//
CALSCALE:GREGORIAN
METHOD:PUBLISH
X-WR-CALNAME:iCal Evangelische-Termine 19.04.2026
X-WR-CALDESC:iCalender von Evangelische-Termine (19.04.2026)
X-WR-TIMEZONE:Europe/Berlin
X-MS-OLK-FORCEINSPECTOROPEN:TRUE
BEGIN:VTIMEZONE
TZID:Europe/Berlin
BEGIN:STANDARD
DTSTART:19701025T030000
TZOFFSETFROM:+0200
TZOFFSETTO:+0100
RRULE:FREQ=YEARLY;BYDAY=-1SU;BYMONTH=10
TZNAME:CET
END:STANDARD
BEGIN:DAYLIGHT
DTSTART:19700329T020000
TZOFFSETFROM:+0100
TZOFFSETTO:+0200
RRULE:FREQ=YEARLY;BYDAY=-1SU;BYMONTH=3
TZNAME:CEST
END:DAYLIGHT
END:VTIMEZONE
BEGIN:VEVENT
UID:20230915T000000-711034@evangelische-termine.de
DTSTAMP:20260419T174136Z
DESCRIPTION:\nKirchenkreis: Simmern-Trarbach\nArt der Veranstaltung: Fortbi
 ldungen / Seminare / Vorträge\nVeranstaltungsort: Ev. Erwachsenenbildungsw
 erk Rheinland-Süd e.V.\, Simmern\nHerzog-Reichard-Str. 30\n55469 Simmern\n
 Kurzbeschreibung / Untertitel: Ausbildung Gottesdienst-Gestaltung\nAusführ
 liche Beschreibung: – Gottesdienst feiert Zukunft – Unter diesem Motto hab
 en die Kooperationspartner Ev. Kirchenkreis Simmern-Trarbach\, Ev. Kirchen
 gemeinde Cochem und das Ev. Erwachsenen­bildungswerk Rheinland-Süd e.V. – 
 mit angeregt durch das Projekt Kirchen(T)Räume aus der Frauenarbeit – eine
  Fortbildung für Menschen konzipiert\, die sich aktiv in der Gottesdienstg
 estaltung in ihren Kirchengemeinden engagieren möchten.\nDie Entwicklungen
  in den Kirchengemeinden und -kreisen zeigen\, dass die Ressourcen in Zuku
 nft nicht mehr vollumfänglich zur Verfügung stehen.\nDoch Menschen leben K
 irche\, auch in Zukunft!\nDieses Erleben kann der Gottesdienst schaffen\, 
 wenn er Menschen hat\, die ihn gestalten!\n• Wir kommen gemeinsam in einen
  Raum und wollen unseren Glauben feiern.\n• Wir wollen Begegnung\, Austaus
 ch und Gemeinsamkeit erleben. \n• Wir wollen emotional berührt werden\, un
 s geborgen fühlen und neue Impulse finden.\nDie Gottesdienstgestaltung bie
 tet viele Möglichkeiten\, sich einzubringen.\n• Welches Thema könnte gewäh
 lt werden?\n• Welche Zielgruppen sollen angesprochen werden?\n• Wie leite 
 ich durch einen Gottesdienst?\n• Wie spreche ich?\n• Wie wirkt meine Leses
 timme und wie meine Sprechstimme in einem Raum oder einer Kirche?\n• Welch
 e freien Beiträge kann ich mit einbringen?\nEs gibt viele interessante Fra
 gen\, die Sie sich hier stellen können.\nDiese Fragen und noch viele mehr 
 hat sich das Konzeptionsteam ebenfalls gestellt und vielfältigste Möglichk
 eiten und Optionen gefunden\, die natürlich vor allem durch das Mitwirken 
 der Teilnehmenden noch weiter kreativ entwickelt werden können.\nDie Ausbi
 ldung findet in Modulform statt. \nTermine:\nInfotermin online: \n02.09.20
 24\, 19.30 Uhr (für den Einwahllink bitte Mail an Fr. Hillebrand\, für den
  Einwahllink bitte Mail an Fr. Hillebrand\, serena.hillebrand@ekir.de)\n\n
 Erstes Wochenend-Modul im\nSeptember: 20.09.-21.09.2024 (Fr./Sa.)\nInterne
 tadresse (eigene Infos im Internet): https://eeb-sued.de/gottesdienst-feie
 rt-zukunft/\nFörderbereich: Abschlussbezogene Kurse\nReferent/in: Serena H
 illebrand (Projektleitung)\nAnsprechpartner/in - Leitung: Serena Hillebran
 d (Projektleitung)\nKirsten Arnswald\nSuperintendent Markus Risch\nZusatzi
 nformationen: Die Ausbildung findet an sechs mal zwei Terminen unter der W
 oche\, \nvon 19.00 bis 21.30 Uhr\, und an drei Wochenend-Modulen\, jeweils
  \nfreitags von 19.00 bis 21.30 Uhr und samstags von 9.00 bis 16.00 Uhr\, 
 statt.\n \nDie Termine verteilen sich auf knapp sechs Monate. Nach Absprac
 he mit den Teilnehmenden können im Ausnahmefall alle Module an Wochenenden
  stattfinden. \n\nAnmeldeschluss für den Kurs ist der 06.09.2024\n: \nAnsp
 rechpartner: Kirsten Arnswald karnswald@eeb-sued.de\n06761/7019
DTSTART;VALUE=DATE:20230915
DTEND;VALUE=DATE:20240304
LOCATION:Simmern: Ev. Erwachsenenbildungswerk Rheinland-Süd e.V.\, Simmern
SUMMARY:Gottesdienst feiert Zukunft :: Ausbildung Gottesdienst-Gestaltung u
 nd Lektor:innen-Dienst
URL:https://termine.ekir.de/veranstaltung_im_detail711034.html
END:VEVENT
END:VCALENDAR
