BEGIN:VCALENDAR
VERSION:2.0
PRODID:-//evangelische-termine.de//NONSGML kigkonsult.se iCalcreator 2.18//
CALSCALE:GREGORIAN
METHOD:PUBLISH
X-WR-CALNAME:iCal Evangelische-Termine 19.04.2026
X-WR-CALDESC:iCalender von Evangelische-Termine (19.04.2026)
X-WR-TIMEZONE:Europe/Berlin
X-MS-OLK-FORCEINSPECTOROPEN:TRUE
BEGIN:VTIMEZONE
TZID:Europe/Berlin
BEGIN:STANDARD
DTSTART:19701025T030000
TZOFFSETFROM:+0200
TZOFFSETTO:+0100
RRULE:FREQ=YEARLY;BYDAY=-1SU;BYMONTH=10
TZNAME:CET
END:STANDARD
BEGIN:DAYLIGHT
DTSTART:19700329T020000
TZOFFSETFROM:+0100
TZOFFSETTO:+0200
RRULE:FREQ=YEARLY;BYDAY=-1SU;BYMONTH=3
TZNAME:CEST
END:DAYLIGHT
END:VTIMEZONE
BEGIN:VEVENT
UID:20231107T100000-711484@evangelische-termine.de
DTSTAMP:20260419T193428Z
DESCRIPTION:\nKirchenkreis: überregional\nArt der Veranstaltung: Fortbildun
 gen / Seminare / Vorträge\nVeranstaltungsort: online\n- -\nAusführliche Be
 schreibung: Angst steht in Deutschland hoch im Kurs. Im englischen Sprachr
 aum hat sich der Begriff „German Angst“ eingebürgert\, womit eine „unbegrü
 ndete diffuse Furcht“ (Wikipedia) bezeichnet wird\, mit der angeblich beso
 nders die Deutschen der Welt gegenübertreten. Im Gegensatz dazu\, ruft die
  Heilige Schrift an vielen Stellen dazu auf\, sich nicht von unbegründeter
  Angst leiten zu lassen.\nDer Referent geht der Frage nach\, wo begründete
  Vorsicht aufhört und lebensfeindliche Angst beginnt. Er legt dar\, warum 
 Angst meist ein „schlechter Ratgeber“ ist\, was sie aus christlicher Sich 
 so gefährlich macht und wie man sie überwinden kann. Er erinnert an die ch
 ristliche „Kardinaltugend“ der Tapferkeit und beschreibt was wir gewinnen\
 , wenn nicht die Angst\, sondern die Liebe Motor unseres Handelns ist. Die
 se Haltung einzuüben ist die beste Vorsorge für die raueren Zeiten\, die v
 ielleicht bevorstehen.\nInternetadresse (eigene Infos im Internet): http:/
 /www.eeb-sued.de\nFörderbereich: Theologie/Religion\nReferent/in: Michael 
 Ragg\, Journalist\, Radio- und Fernsehmoderator u.a.\nAnsprechpartner/in -
  Leitung: Margit Büttner\nKosten: freiwilliger Beitrag\nZusatzinformatione
 n: Anmeldung bis 05.11.2023\n: 
DTSTART;TZID=Europe/Berlin:20231107T100000
DTEND;TZID=Europe/Berlin:20231107T120000
LOCATION:-: online
SUMMARY:Furcht gibt es in der Liebe nicht (1 Joh 4\,18) – Sich wappnen für 
 rauere Zeiten
URL:https://termine.ekir.de/veranstaltung_im_detail711484.html
END:VEVENT
END:VCALENDAR
