BEGIN:VCALENDAR
VERSION:2.0
PRODID:-//evangelische-termine.de//NONSGML kigkonsult.se iCalcreator 2.18//
CALSCALE:GREGORIAN
METHOD:PUBLISH
X-WR-CALNAME:iCal Evangelische-Termine 19.04.2026
X-WR-CALDESC:iCalender von Evangelische-Termine (19.04.2026)
X-WR-TIMEZONE:Europe/Berlin
X-MS-OLK-FORCEINSPECTOROPEN:TRUE
BEGIN:VTIMEZONE
TZID:Europe/Berlin
BEGIN:STANDARD
DTSTART:19701025T030000
TZOFFSETFROM:+0200
TZOFFSETTO:+0100
RRULE:FREQ=YEARLY;BYDAY=-1SU;BYMONTH=10
TZNAME:CET
END:STANDARD
BEGIN:DAYLIGHT
DTSTART:19700329T020000
TZOFFSETFROM:+0100
TZOFFSETTO:+0200
RRULE:FREQ=YEARLY;BYDAY=-1SU;BYMONTH=3
TZNAME:CEST
END:DAYLIGHT
END:VTIMEZONE
BEGIN:VEVENT
UID:20231118T110000-713206@evangelische-termine.de
DTSTAMP:20260419T194702Z
DESCRIPTION:\nKirchenkreis: überregional\nArt der Veranstaltung: Fortbildun
 gen / Seminare / Vorträge\nVeranstaltungsort: Wiesbaden Innenstadt\, Treff
 punkt Marktkirche\, Schlossplatz 4\nSchlossplatz 4\n65183 Wiesbaden\nAusfü
 hrliche Beschreibung: Drei Stadtkirchen in Wiesbaden zeigen programmatisch
  die Entwicklung des protestantischen Kirchenbaus im 19. Jahrhundert. Nirg
 endwo sonst lässt sich diese so gut nachvollziehen wie hier. Dadurch werde
 n auch unzählige andere evangelische Kirchenbauten in Deutschland verstehb
 ar.\nWährend die Marktkirche (1853-1862) noch an den Bauformen römisch-kat
 holischer Prägung orientiert ist\, zeigt die Ringkirche (1892-1894) ein vö
 llig neues Gesicht und stellt baulich die Wortverkündigung ins Zentrum. Ar
 chitektur und Theologie sind\, wie es das sogenannte Wiesbadener Programm 
 forderte\, konsequent aufeinander bezogen. Die Lutherkirche (1908-1910) sc
 hließlich setzt die Entwicklung des Kirchenbaus in den Formen des Jugendst
 ils fort und erzielt damit eine außergewöhnliche architektonische Wirkung.
  \nDie Exkursion wird geleitet von Kirsten Regula-Knecktys\, Historikerin 
 M.A. und zertifizierte Kirchenführerin (Bundesverband Kirchenpädagogik).\n
 Die drei Kirchen werden zu Fuß erreicht\, Gehzeit inkl. Rückweg insgesamt 
 ca. 4\,5 km (1 h). \nDie Anreise erfolgt individuell oder in privat organi
 sierten Fahrgemeinschaften per Bahn oder PKW. Fußweg vom Hauptbahnhof zum 
 Treffpunkt Marktkirche 20 Minuten\; Parken in der Tiefgarage Markt oder Pa
 rkhaus Karstadt.\nEine Mittagspause ist vorgesehen (Café in der Innenstadt
 ).\nEingeladen sind alle am Thema Interessierten\, maximal 15 Personen.\nF
 örderbereich: Theologie/Religion\nReferent/in: Kirsten Regula-Knecktys\, H
 istorikerin M.A. und zertifizierte Kirchenführerin (Bundesverband Kirchenp
 ädagogik\nAnsprechpartner/in - Leitung: Kirsten Regula-Knecktys\, Margit B
 üttner\nKosten: 30\,00 Euro\nZusatzinformationen: Anmeldungen bis 13.10.20
 23\n: 
DTSTART;TZID=Europe/Berlin:20231118T110000
DTEND;TZID=Europe/Berlin:20231118T160000
LOCATION:Wiesbaden: Wiesbaden Innenstadt\, Treffpunkt Marktkirche\, Schloss
 platz 4
SUMMARY:Höhepunkte des evangelischen Kirchenbaus im 19. Jahrhundert. Exkurs
 ion nach Wiesbaden
URL:https://termine.ekir.de/veranstaltung_im_detail713206.html
END:VEVENT
END:VCALENDAR
