BEGIN:VCALENDAR
VERSION:2.0
PRODID:-//evangelische-termine.de//NONSGML kigkonsult.se iCalcreator 2.18//
CALSCALE:GREGORIAN
METHOD:PUBLISH
X-WR-CALNAME:iCal Evangelische-Termine 19.04.2026
X-WR-CALDESC:iCalender von Evangelische-Termine (19.04.2026)
X-WR-TIMEZONE:Europe/Berlin
X-MS-OLK-FORCEINSPECTOROPEN:TRUE
BEGIN:VTIMEZONE
TZID:Europe/Berlin
BEGIN:STANDARD
DTSTART:19701025T030000
TZOFFSETFROM:+0200
TZOFFSETTO:+0100
RRULE:FREQ=YEARLY;BYDAY=-1SU;BYMONTH=10
TZNAME:CET
END:STANDARD
BEGIN:DAYLIGHT
DTSTART:19700329T020000
TZOFFSETFROM:+0100
TZOFFSETTO:+0200
RRULE:FREQ=YEARLY;BYDAY=-1SU;BYMONTH=3
TZNAME:CEST
END:DAYLIGHT
END:VTIMEZONE
BEGIN:VEVENT
UID:20230904T190000-715292@evangelische-termine.de
DTSTAMP:20260419T160904Z
DESCRIPTION:\nKirchenkreis: überregional\nArt der Veranstaltung: Fortbildun
 gen / Seminare / Vorträge\nVeranstaltungsort: Aula der Jugendbildungsstätt
 e der Pallottiner Haus Wasserburg\nPallottistr. 2\n56179 Vallendar\nKurzbe
 schreibung / Untertitel: „Arisierung“ wurde im NS-Staat die Enteignung jüd
 ischer Familien und Firmen genannt. Die Besitztümer gingen in staatlichen 
 oder privaten „nichtjüdischen“ Besitz über.\nAusführliche Beschreibung: Am
  Anfang von Armin H. Fleschs Beschäftigung mit Arisierung stand ein 1935 a
 risiertes Frankfurter Unternehmen. 2013 hatten dessen heutige Eigentümer b
 ehauptet\, ihre Firma blicke auf eine „fast 100 jährige Familientradition“
  zurück. Die Suche nach alten Unterlagen führte den Frankfurter Journalist
 en zu weiteren\, teils spektakulären Fällen wie jenem der heutigen Unterne
 hmenszentrale eines großen mittelständischen Spezialchemie-Herstellers in 
 Lahnstein am Rhein. Archivrecherchen in bislang 16 in- und 7 ausländischen
  Archiven sowie zahlreiche Interviews mit Nachkommen von Tätern und Opfern
  lösten eine Beschäftigung mit dem Thema Arisierung aus\, die bis heute fo
 rtdauert.\nSeit 2017 hält Armin H. Flesch seinen Vortrag 'Die Erben der Ar
 isierung bundesweit im Rahmen von Abendveranstaltungen sowie an Schulen un
 d im Rahmen der Lehrerfortbildung.\nFörderbereich: Gesellschaft\, Politik 
 und Wirtschaft\nReferent/in: Armin H. Flesch\, freier Autor und Journalist
 \, Frankfurt\nKosten: Eintritt frei\nZusatzinformationen: Kooperationsvera
 nstaltung der Christlich-Jüdischen Gesellschaft für Brüderlichkeit e.V. Ko
 blenz mit dem Evangelischen Erwachsenenbildungswerk Rheinland-Süd e.V.  \n
 \n- Anmeldung nicht erforderlich -
DTSTART;TZID=Europe/Berlin:20230904T190000
DTEND;TZID=Europe/Berlin:20230904T210000
LOCATION:Vallendar: Aula der Jugendbildungsstätte der Pallottiner Haus Wass
 erburg
SUMMARY:Die Erben der Arisierung. Wir wissen\, was wir haben. wissen wir au
 ch\, woher es stammt?
URL:https://termine.ekir.de/veranstaltung_im_detail715292.html
END:VEVENT
END:VCALENDAR
