BEGIN:VCALENDAR
VERSION:2.0
PRODID:-//evangelische-termine.de//NONSGML kigkonsult.se iCalcreator 2.18//
CALSCALE:GREGORIAN
METHOD:PUBLISH
X-WR-CALNAME:iCal Evangelische-Termine 21.04.2026
X-WR-CALDESC:iCalender von Evangelische-Termine (21.04.2026)
X-WR-TIMEZONE:Europe/Berlin
X-MS-OLK-FORCEINSPECTOROPEN:TRUE
BEGIN:VTIMEZONE
TZID:Europe/Berlin
BEGIN:STANDARD
DTSTART:19701025T030000
TZOFFSETFROM:+0200
TZOFFSETTO:+0100
RRULE:FREQ=YEARLY;BYDAY=-1SU;BYMONTH=10
TZNAME:CET
END:STANDARD
BEGIN:DAYLIGHT
DTSTART:19700329T020000
TZOFFSETFROM:+0100
TZOFFSETTO:+0200
RRULE:FREQ=YEARLY;BYDAY=-1SU;BYMONTH=3
TZNAME:CEST
END:DAYLIGHT
END:VTIMEZONE
BEGIN:VEVENT
UID:20231024T153000-717637@evangelische-termine.de
DTSTAMP:20260421T172921Z
DESCRIPTION:\nOrt: online\n über Zoom\nBeschreibung: Fortbildung Lehrer*inn
 en an Grund- und Förderschule\nArt der Veranstaltung: Fortbildungen / Semi
 nare / Vorträge\nInternetadresse (eigene Infos im Internet): http://www.re
 li-bonn.de\nEmail: info@schulreferatbonn.de\nAnsprechpartner: Hiltrud Stär
 k-Lemaire hiltrud.staerk-lemaire@ekir.de\nWeitere Informationen: Der neue 
 Lehrplan Evangelische Religion bietet neue Freiheiten und neue Möglichkeit
 en für die Unterrichtsgestaltung\, aber auch die Herausforderung\, die vie
 len Einzelkompetenzen in Unterrichtsvorhaben zusammenzuführen. Wir nehmen 
 in dieser Online-Fortbildungsreihe Schwerpunkte und Querschnittsaufgaben u
 nter die Lupe und stellen Ihnen Ideen für Ihren Unterricht vor.\n2. Teil: 
 Evangelisch – Katholisch: Entdeckungen in einem neuen Wimmelbild \nOb Sie 
 nun konfessionell getrennt unterrichten oder künftig konfessionell-koopera
 tiv: Es bleibt wichtig im Religionsunterricht\, das Christentum nicht allg
 emein kennenzulernen\, sondern mit seinen konfessionellen Facetten und Aus
 prägungen. Dazu haben wir ein neues Wimmelbild entwickelt. Auf diesem könn
 en die Schüler:innen Spuren von Religion in unserer Welt entdecken – insbe
 sondere evangelische und katholische Spuren.\n\nLEITUNG\nReiner Lemaire\, 
 Schulreferat Köln\nHiltrud Stärk-Lemaire\, Schulreferat Bonn\nJessica Wilh
 elmi\, Schulreferat Leverkusen\n\nOnline über Zoom\nDieses Angebot ist für
  Sie kostenfrei.\nAnmeldung bis zum 23.10.23
DTSTART;TZID=Europe/Berlin:20231024T153000
DTEND;TZID=Europe/Berlin:20231024T170000
LOCATION:über Zoom: online
SUMMARY:Teil 2 der Reihe: Praxis Impulse Primarstufe Praxis-Ideen zum neuen
  Lehrplan :: Evangelisch – Katholisch:  Entdeckungen in einem neuen Wimmel
 bild 
URL:https://termine.ekir.de/veranstaltung_im_detail717637.html
END:VEVENT
END:VCALENDAR
