BEGIN:VCALENDAR
VERSION:2.0
PRODID:-//evangelische-termine.de//NONSGML kigkonsult.se iCalcreator 2.18//
CALSCALE:GREGORIAN
METHOD:PUBLISH
X-WR-CALNAME:iCal Evangelische-Termine 19.04.2026
X-WR-CALDESC:iCalender von Evangelische-Termine (19.04.2026)
X-WR-TIMEZONE:Europe/Berlin
X-MS-OLK-FORCEINSPECTOROPEN:TRUE
BEGIN:VTIMEZONE
TZID:Europe/Berlin
BEGIN:STANDARD
DTSTART:19701025T030000
TZOFFSETFROM:+0200
TZOFFSETTO:+0100
RRULE:FREQ=YEARLY;BYDAY=-1SU;BYMONTH=10
TZNAME:CET
END:STANDARD
BEGIN:DAYLIGHT
DTSTART:19700329T020000
TZOFFSETFROM:+0100
TZOFFSETTO:+0200
RRULE:FREQ=YEARLY;BYDAY=-1SU;BYMONTH=3
TZNAME:CEST
END:DAYLIGHT
END:VTIMEZONE
BEGIN:VEVENT
UID:20230712T080000-717801@evangelische-termine.de
DTSTAMP:20260419T174540Z
DESCRIPTION:\nKirchenkreis: Simmern-Trarbach\nArt der Veranstaltung: Fortbi
 ldungen / Seminare / Vorträge\nVeranstaltungsort: Cafè Freiraum\, Rheinböl
 len\nAm Guldenbach 60\n55494 Rheinböllen\nKurzbeschreibung / Untertitel: A
 lphabetisierungs- und Grundbildungskurs | Fortgeschrittenenkurs III - 23-F
 3-RH-1\nAusführliche Beschreibung: Vielen Menschen fällt das Lesen und Sch
 reiben von alltäglichen Texten schwer. Sie können sich so oftmals nicht se
 lbst mitteilen oder notwendige Informationen erkennen und erhalten. \nIn d
 iesem Kurs wird abgestimmt auf den individuellen Lernstand die deutsche Sc
 hriftsprache mithilfe von alltäglichen Schreibanlässen und vielen Material
 ien aus dem Leben erarbeitet und gefestigt.\nInternetadresse (eigene Infos
  im Internet): https://eeb-sued.de/projekte/alphabetisierungskurse-und-unt
 erstuetzungsmassnahmen/\nFörderbereich: Kompensatorische Grundbildung\nRef
 erent/in: Alexandra Wust\nAnsprechpartner/in - Leitung: Alexandra Wust\nKo
 sten: kostenlos\nZusatzinformationen: Anmeldung ist jederzeit möglich bei 
 Alexandra Wust unter Tel. 06761/970342 oder unter swust@eeb-sued.de\nKursn
 ummer: Fortgeschrittenenkurs III - 23-F3-RH-1\n: \nAnsprechpartner: Alexan
 dra Wust swust@eeb-sued.de\n06761/7018
DTSTART;TZID=Europe/Berlin:20230712T080000
DTEND;TZID=Europe/Berlin:20230712T123000
LOCATION:Rheinböllen: Cafè Freiraum\, Rheinböllen
SUMMARY:Deutsch lesen und schreiben lernen für den Alltag | Fortgeschritten
 kurs III :: Alphabetisierungs- und Grundbildungskurs
URL:https://termine.ekir.de/veranstaltung_im_detail717801.html
END:VEVENT
END:VCALENDAR
