BEGIN:VCALENDAR
VERSION:2.0
PRODID:-//evangelische-termine.de//NONSGML kigkonsult.se iCalcreator 2.18//
CALSCALE:GREGORIAN
METHOD:PUBLISH
X-WR-CALNAME:iCal Evangelische-Termine 19.04.2026
X-WR-CALDESC:iCalender von Evangelische-Termine (19.04.2026)
X-WR-TIMEZONE:Europe/Berlin
X-MS-OLK-FORCEINSPECTOROPEN:TRUE
BEGIN:VTIMEZONE
TZID:Europe/Berlin
BEGIN:STANDARD
DTSTART:19701025T030000
TZOFFSETFROM:+0200
TZOFFSETTO:+0100
RRULE:FREQ=YEARLY;BYDAY=-1SU;BYMONTH=10
TZNAME:CET
END:STANDARD
BEGIN:DAYLIGHT
DTSTART:19700329T020000
TZOFFSETFROM:+0100
TZOFFSETTO:+0200
RRULE:FREQ=YEARLY;BYDAY=-1SU;BYMONTH=3
TZNAME:CEST
END:DAYLIGHT
END:VTIMEZONE
BEGIN:VEVENT
UID:20230712T090000-717803@evangelische-termine.de
DTSTAMP:20260419T160905Z
DESCRIPTION:\nKirchenkreis: Simmern-Trarbach\nArt der Veranstaltung: Fortbi
 ldungen / Seminare / Vorträge\nVeranstaltungsort: Ev. Erwachsenenbildungsw
 erk Rheinland-Süd e.V.\, Simmern\nHerzog-Reichard-Str. 30\n55469 Simmern\n
 Kurzbeschreibung / Untertitel: Alphabetisierungs- und Grundbildungskurs | 
 Fortgeschrittenenkurs V – 23-F5-SI-1\nAusführliche Beschreibung: Vielen Me
 nschen fällt das Lesen und Schreiben von alltäglichen Texten schwer. Sie k
 önnen sich so oftmals nicht selbst mitteilen oder notwendige Informationen
  erkennen und erhalten. \nIn diesem Kurs wird abgestimmt auf den individue
 llen Lernstand die deutsche Schriftsprache mithilfe von alltäglichen Schre
 ibanlässen und vielen Materialien aus dem Leben erarbeitet und gefestigt.
 \nInternetadresse (eigene Infos im Internet): https://eeb-sued.de/projekte
 /alphabetisierungskurse-und-unterstuetzungsmassnahmen/\nFörderbereich: Kom
 pensatorische Grundbildung\nReferent/in: Bettina Kiel\nAnsprechpartner/in 
 - Leitung: Alexandra Wust\nKosten: kostenlos\nZusatzinformationen: Anmeldu
 ng ist jederzeit möglich bei Alexandra Wust unter Tel. 06761/970342 oder u
 nter swust@eeb-sued.de oder bei der Referentin unter Tel. 0176/55143803\nK
 ursnummer: Fortgeschrittenenkurs V – 23-F5-SI-1\n: \nAnsprechpartner: Alex
 andra Wust swust@eeb-sued.de\n06761/7018
DTSTART;TZID=Europe/Berlin:20230712T090000
DTEND;TZID=Europe/Berlin:20230712T111500
LOCATION:Simmern: Ev. Erwachsenenbildungswerk Rheinland-Süd e.V.\, Simmern
SUMMARY:Deutsch lesen und schreiben lernen für den Alltag | Fortgeschritten
 kurs V :: Alphabetisierungs- und Grundbildungskurs
URL:https://termine.ekir.de/veranstaltung_im_detail717803.html
END:VEVENT
END:VCALENDAR
