BEGIN:VCALENDAR
VERSION:2.0
PRODID:-//evangelische-termine.de//NONSGML kigkonsult.se iCalcreator 2.18//
CALSCALE:GREGORIAN
METHOD:PUBLISH
X-WR-CALNAME:iCal Evangelische-Termine 19.04.2026
X-WR-CALDESC:iCalender von Evangelische-Termine (19.04.2026)
X-WR-TIMEZONE:Europe/Berlin
X-MS-OLK-FORCEINSPECTOROPEN:TRUE
BEGIN:VTIMEZONE
TZID:Europe/Berlin
BEGIN:STANDARD
DTSTART:19701025T030000
TZOFFSETFROM:+0200
TZOFFSETTO:+0100
RRULE:FREQ=YEARLY;BYDAY=-1SU;BYMONTH=10
TZNAME:CET
END:STANDARD
BEGIN:DAYLIGHT
DTSTART:19700329T020000
TZOFFSETFROM:+0100
TZOFFSETTO:+0200
RRULE:FREQ=YEARLY;BYDAY=-1SU;BYMONTH=3
TZNAME:CEST
END:DAYLIGHT
END:VTIMEZONE
BEGIN:VEVENT
UID:20231206T140000-717884@evangelische-termine.de
DTSTAMP:20260419T194702Z
DESCRIPTION:\nKirchenkreis: An Nahe und Glan\nArt der Veranstaltung: Fortbi
 ldungen / Seminare / Vorträge\nVeranstaltungsort: Lernzentrum Bad Kreuznac
 h\nAm Wassersümpfchen 23\n55543 Bad Kreuznach\nKurzbeschreibung / Untertit
 el: Alphabetisierungs- und Grundbildungskurs Einführungskurs II\nAusführli
 che Beschreibung: Vielen Menschen fällt das Lesen und Schreiben von alltäg
 lichen Texten schwer. Sie können sich so oftmals nicht selbst mitteilen od
 er notwendige Informationen erkennen und erhalten. \nIn diesem Kurs wird a
 bgestimmt auf den individuellen Lernstand die deutsche Schriftsprache mith
 ilfe von alltäglichen Schreibanlässen und vielen Materialien aus dem Leben
  erarbeitet und gefestigt.\nInternetadresse (eigene Infos im Internet): ht
 tps://eeb-sued.de/projekte/alphabetisierungskurse-und-unterstuetzungsmassn
 ahmen/\nFörderbereich: Kompensatorische Grundbildung\nReferent/in: Susanne
  Fleischmann\nAnsprechpartner/in - Leitung: Alexandra Wust\nKosten: kosten
 los\nZusatzinformationen: Der Kurs findet jeweils montags und mittwochs 14
 .00 bis 16.15 Uhr.\nAnmeldung ist jederzeit möglich bei Alexandra Wust unt
 er Tel. 06761/970342 oder unter swust@eeb-sued.de oder bei der Referentin 
 unter Tel. 0170/3848172\nKursnummer: Einführungskurs II – 23-E2-KH-1\n: \n
 Ansprechpartner: Alexandra Wust swust@eeb-sued.de\n06761/7018
DTSTART;TZID=Europe/Berlin:20231206T140000
DTEND;TZID=Europe/Berlin:20231206T161500
LOCATION:Bad Kreuznach: Lernzentrum Bad Kreuznach
SUMMARY:Deutsch lesen und schreiben lernen für den Alltag | Einführungskurs
  II
URL:https://termine.ekir.de/veranstaltung_im_detail717884.html
END:VEVENT
END:VCALENDAR
