BEGIN:VCALENDAR
VERSION:2.0
PRODID:-//evangelische-termine.de//NONSGML kigkonsult.se iCalcreator 2.18//
CALSCALE:GREGORIAN
METHOD:PUBLISH
X-WR-CALNAME:iCal Evangelische-Termine 19.04.2026
X-WR-CALDESC:iCalender von Evangelische-Termine (19.04.2026)
X-WR-TIMEZONE:Europe/Berlin
X-MS-OLK-FORCEINSPECTOROPEN:TRUE
BEGIN:VTIMEZONE
TZID:Europe/Berlin
BEGIN:STANDARD
DTSTART:19701025T030000
TZOFFSETFROM:+0200
TZOFFSETTO:+0100
RRULE:FREQ=YEARLY;BYDAY=-1SU;BYMONTH=10
TZNAME:CET
END:STANDARD
BEGIN:DAYLIGHT
DTSTART:19700329T020000
TZOFFSETFROM:+0100
TZOFFSETTO:+0200
RRULE:FREQ=YEARLY;BYDAY=-1SU;BYMONTH=3
TZNAME:CEST
END:DAYLIGHT
END:VTIMEZONE
BEGIN:VEVENT
UID:20231106T080000-717913@evangelische-termine.de
DTSTAMP:20260419T175720Z
DESCRIPTION:\nKirchenkreis: Simmern-Trarbach\nArt der Veranstaltung: Fortbi
 ldungen / Seminare / Vorträge\nVeranstaltungsort: Kath. Gemeindehaus St. H
 ildegard\, Emmelshausen\nKirchstraße 2-4\n56281 Emmelshausen\nKurzbeschrei
 bung / Untertitel: Alphabetisierungs- und Grundbildungskurs Einführungskur
 s II\nAusführliche Beschreibung: Vielen Menschen fällt das Lesen und Schre
 iben von alltäglichen Texten schwer. Sie können sich so oftmals nicht selb
 st mitteilen oder notwendige Informationen erkennen und erhalten. \nIn die
 sem Kurs wird abgestimmt auf den individuellen Lernstand die deutsche Schr
 iftsprache mithilfe von alltäglichen Schreibanlässen und vielen Materialie
 n aus dem Leben erarbeitet und gefestigt.\nInternetadresse (eigene Infos i
 m Internet): https://eeb-sued.de/projekte/alphabetisierungskurse-und-unter
 stuetzungsmassnahmen/\nFörderbereich: Kompensatorische Grundbildung\nRefer
 ent/in: Alexandra Wust\nAnsprechpartner/in - Leitung: Alexandra Wust\nKost
 en: kostenlos\nZusatzinformationen: Der Kurs findet jeweils montags von 8.
 00 bis 12.30 Uhr statt\nAnmeldung ist jederzeit möglich bei Alexandra Wust
  unter Tel. 06761/970342 oder unter swust@eeb-sued.de\nKursnummer: Einführ
 ungskurs II – 23-E2-EH-1\n: \nAnsprechpartner: Alexandra Wust swust@eeb-su
 ed.de\n06761/7018
DTSTART;TZID=Europe/Berlin:20231106T080000
DTEND;TZID=Europe/Berlin:20231106T123000
LOCATION:Emmelshausen: Kath. Gemeindehaus St. Hildegard\, Emmelshausen
SUMMARY:Deutsch lesen und schreiben lernen für den Alltag | Einführungskurs
  II
URL:https://termine.ekir.de/veranstaltung_im_detail717913.html
END:VEVENT
END:VCALENDAR
