BEGIN:VCALENDAR
VERSION:2.0
PRODID:-//evangelische-termine.de//NONSGML kigkonsult.se iCalcreator 2.18//
CALSCALE:GREGORIAN
METHOD:PUBLISH
X-WR-CALNAME:iCal Evangelische-Termine 19.04.2026
X-WR-CALDESC:iCalender von Evangelische-Termine (19.04.2026)
X-WR-TIMEZONE:Europe/Berlin
X-MS-OLK-FORCEINSPECTOROPEN:TRUE
BEGIN:VTIMEZONE
TZID:Europe/Berlin
BEGIN:STANDARD
DTSTART:19701025T030000
TZOFFSETFROM:+0200
TZOFFSETTO:+0100
RRULE:FREQ=YEARLY;BYDAY=-1SU;BYMONTH=10
TZNAME:CET
END:STANDARD
BEGIN:DAYLIGHT
DTSTART:19700329T020000
TZOFFSETFROM:+0100
TZOFFSETTO:+0200
RRULE:FREQ=YEARLY;BYDAY=-1SU;BYMONTH=3
TZNAME:CEST
END:DAYLIGHT
END:VTIMEZONE
BEGIN:VEVENT
UID:20230902T133000-717917@evangelische-termine.de
DTSTAMP:20260419T160925Z
DESCRIPTION:\nKirchenkreis: überregional\nArt der Veranstaltung: Fortbildun
 gen / Seminare / Vorträge\nVeranstaltungsort: Jörg Jungbluth Proberaum\, H
 eimweiler\nHauptstraße 62\n55606 Heimweiler\nKurzbeschreibung / Untertitel
 : Bandinstrumente wie Bass\, Gitarre\, Keyboard\, Schlagzeug und natürlich
  einen Einstieg in den Gesang kennenlernen in lockerer Atmosphäre.\nAusfüh
 rliche Beschreibung: Es gibt viele Musikrichtungen und viele verschiedene 
 Formen gemeinsam Musik zu machen. \nDie Hürde beim Musik machen ist allerd
 ings oft das Instrument. Sich für ein Instrument entscheiden\, sich anzume
 lden und dann dran zu bleiben\, fällt oft schwer. Daher bietet Jörg Jungbl
 uth mit diesem Workshop einen einfachen und unkomplizierten Zugang zum Ken
 nenlernen von Bandinstrumenten.\nIn lockerer Atmosphäre lernen die Teilneh
 menden die Grundlagen der typischen Bandinstrumente Schlagzeug\, Bass Gita
 rre\, Keyboard und Gesang kennen. Gemeinsam jammen die Teilnehmenden Rock 
 und Popsongs. Wer interessiert ist an Musik und schon immer gemeinsam mit 
 anderen etwas auf die Beine stellen wollte\, ist hier genau richtig. Vorke
 nntnisse sind nicht notwendig\, aber natürlich können auch alle mitmachen 
 die bereits Erfahrungen an einem Instrument gemacht haben.\nDer Workshop b
 esteht aus sechs Terminen\, samstags von 13.30 bis 15.00 Uhr.\nDie Termine
  sind: 12.08.23\, 02.09.23\, 14.10.23\, 18.11.23\, 16.12.23\nFörderbereich
 : Sonstiges\nReferent/in: Jörg Jungbluth\, Musiklehrer\nAnsprechpartner/in
  - Leitung: Carola Schick\nKosten: 75\,– €\nZusatzinformationen: Anmeldung
  bis 04.08.2023\n: \nAnsprechpartner: Carola Schick eeb-sued@eeb-sued.de
DTSTART;TZID=Europe/Berlin:20230902T133000
DTEND;TZID=Europe/Berlin:20230902T150000
LOCATION:Heimweiler: Jörg Jungbluth Proberaum\, Heimweiler
SUMMARY:Pop und Rockmusik selber machen! – Der Band-Workshop :: Bandinstrum
 ente wie Bass\, Gitarre\, Keyboard\, Schagzeug und natürlich einen Einstie
 g in den Gesang kennenlernen in lockerer Atmosphäre.
URL:https://termine.ekir.de/veranstaltung_im_detail717917.html
END:VEVENT
END:VCALENDAR
