BEGIN:VCALENDAR
VERSION:2.0
PRODID:-//evangelische-termine.de//NONSGML kigkonsult.se iCalcreator 2.18//
CALSCALE:GREGORIAN
METHOD:PUBLISH
X-WR-CALNAME:iCal Evangelische-Termine 19.04.2026
X-WR-CALDESC:iCalender von Evangelische-Termine (19.04.2026)
X-WR-TIMEZONE:Europe/Berlin
X-MS-OLK-FORCEINSPECTOROPEN:TRUE
BEGIN:VTIMEZONE
TZID:Europe/Berlin
BEGIN:STANDARD
DTSTART:19701025T030000
TZOFFSETFROM:+0200
TZOFFSETTO:+0100
RRULE:FREQ=YEARLY;BYDAY=-1SU;BYMONTH=10
TZNAME:CET
END:STANDARD
BEGIN:DAYLIGHT
DTSTART:19700329T020000
TZOFFSETFROM:+0100
TZOFFSETTO:+0200
RRULE:FREQ=YEARLY;BYDAY=-1SU;BYMONTH=3
TZNAME:CEST
END:DAYLIGHT
END:VTIMEZONE
BEGIN:VEVENT
UID:20231227T140000-717921@evangelische-termine.de
DTSTAMP:20260419T193704Z
DESCRIPTION:\nKirchenkreis: überregional\nArt der Veranstaltung: Fortbildun
 gen / Seminare / Vorträge\nVeranstaltungsort: Ev. Gemeindezentrum Winninge
 n\nKirchstraße 5\n56333 Winningen\nKurzbeschreibung / Untertitel: Kreative
  Schreibwerkstatt als Jahrsabschluss\nAusführliche Beschreibung: Mit Stift
  und Papier folgen wir unseren Wahrnehmungen\, inspiriert vom Rhythmus der
  Natur. Die kreativen Techniken des emotionalen Schreibens machen es uns l
 eicht. Spirituelle Impulse helfen uns zusätzlich\, in die Ruhe zu kommen. 
 Auch für Schreib-Anfängerinnen geeignet. Max. 12 Teilnehmerinnen.\nInterne
 tadresse (eigene Infos im Internet): https://ev.kirche-winningen.de/\nFörd
 erbereich: Sonstiges\nReferent/in: Susanne Barth\, Coach für therapeutisch
 es Schreiben\nIris Ney\, Pfarrerin\nAnsprechpartner/in - Leitung: Susanne 
 Barth\nKosten: 49\,– € zzgl. kleiner kulinarischer Beitrag zum Mittagsbüff
 et\nZusatzinformationen: Anmeldung bis zum 13.12.23 im Pfarrbüro winningen
 @ekir.de\, Tel. 02606/344 oder info@susanne-barth.com
DTSTART;TZID=Europe/Berlin:20231227T140000
DTEND;TZID=Europe/Berlin:20231227T190000
LOCATION:Winningen: Ev. Gemeindezentrum Winningen
SUMMARY:WINTER-Schreibzeit für Frauen :: Mit Leib und Seele erspüren wir\, 
 wie sich winterlicher Rückzug anfühlt.
URL:https://termine.ekir.de/veranstaltung_im_detail717921.html
END:VEVENT
END:VCALENDAR
