BEGIN:VCALENDAR
VERSION:2.0
PRODID:-//evangelische-termine.de//NONSGML kigkonsult.se iCalcreator 2.18//
CALSCALE:GREGORIAN
METHOD:PUBLISH
X-WR-CALNAME:iCal Evangelische-Termine 19.04.2026
X-WR-CALDESC:iCalender von Evangelische-Termine (19.04.2026)
X-WR-TIMEZONE:Europe/Berlin
X-MS-OLK-FORCEINSPECTOROPEN:TRUE
BEGIN:VTIMEZONE
TZID:Europe/Berlin
BEGIN:STANDARD
DTSTART:19701025T030000
TZOFFSETFROM:+0200
TZOFFSETTO:+0100
RRULE:FREQ=YEARLY;BYDAY=-1SU;BYMONTH=10
TZNAME:CET
END:STANDARD
BEGIN:DAYLIGHT
DTSTART:19700329T020000
TZOFFSETFROM:+0100
TZOFFSETTO:+0200
RRULE:FREQ=YEARLY;BYDAY=-1SU;BYMONTH=3
TZNAME:CEST
END:DAYLIGHT
END:VTIMEZONE
BEGIN:VEVENT
UID:20230714T140000-717922@evangelische-termine.de
DTSTAMP:20260419T160905Z
DESCRIPTION:\nKirchenkreis: überregional\nArt der Veranstaltung: Fortbildun
 gen / Seminare / Vorträge\nVeranstaltungsort: Ev. Gemeindezentrum Winninge
 n\nKirchstraße 5\n56333 Winningen\nKurzbeschreibung / Untertitel: Kreative
  Schreibwerkstatt im Sommer\nAusführliche Beschreibung: Wir schreiben zu d
 en Engel-Bildern von Paul Klee: Nachdenkliches\, Heiteres\, Poetische. Es 
 sind keine Vorkenntnisse erforderlich.\nInternetadresse (eigene Infos im I
 nternet): https://ev.kirche-winningen.de/\nFörderbereich: Sonstiges\nRefer
 ent/in: Susanne Barth\, Coach\nAnsprechpartner/in - Leitung: Susanne Barth
 \nKosten: 49\,– € pro Termin und zzgl. eines kleinen kulinarischen Beitrag
  zum Kaffee-Büffet\nZusatzinformationen: Anmeldungen bis zum 6.10.23 an di
 e Ev. Kirchengemeinde Winningen unter winningen @ekir.de oder Tel. 02606-3
 44
DTSTART;TZID=Europe/Berlin:20230714T140000
DTEND;TZID=Europe/Berlin:20230714T190000
LOCATION:Winningen: Ev. Gemeindezentrum Winningen
SUMMARY:Engel im Sommer – Schreibworkshop für Frauen :: Kreatives Schreiben
URL:https://termine.ekir.de/veranstaltung_im_detail717922.html
END:VEVENT
END:VCALENDAR
