BEGIN:VCALENDAR
VERSION:2.0
PRODID:-//evangelische-termine.de//NONSGML kigkonsult.se iCalcreator 2.18//
CALSCALE:GREGORIAN
METHOD:PUBLISH
X-WR-CALNAME:iCal Evangelische-Termine 19.04.2026
X-WR-CALDESC:iCalender von Evangelische-Termine (19.04.2026)
X-WR-TIMEZONE:Europe/Berlin
X-MS-OLK-FORCEINSPECTOROPEN:TRUE
BEGIN:VTIMEZONE
TZID:Europe/Berlin
BEGIN:STANDARD
DTSTART:19701025T030000
TZOFFSETFROM:+0200
TZOFFSETTO:+0100
RRULE:FREQ=YEARLY;BYDAY=-1SU;BYMONTH=10
TZNAME:CET
END:STANDARD
BEGIN:DAYLIGHT
DTSTART:19700329T020000
TZOFFSETFROM:+0100
TZOFFSETTO:+0200
RRULE:FREQ=YEARLY;BYDAY=-1SU;BYMONTH=3
TZNAME:CEST
END:DAYLIGHT
END:VTIMEZONE
BEGIN:VEVENT
UID:20231205T100000-717935@evangelische-termine.de
DTSTAMP:20260419T194643Z
DESCRIPTION:\nKirchenkreis: überregional\nArt der Veranstaltung: Fortbildun
 gen / Seminare / Vorträge\nVeranstaltungsort: Ev. Kirchenkreis Koblenz\, S
 uperintendentur\nMainzer Str. 81\n56075 Koblenz\nKurzbeschreibung / Untert
 itel: Das Ehepaar Kathrin und Klaus Thomas verbrachte im Ruhestand ein fre
 iwilliges Jahr in der Evangelischen Gemeinde deutscher Sprache in Jerusale
 m und berichtet von Eindrücken und Erfahrungen.\nAusführliche Beschreibung
 : Den Ruhestand nutzen und noch einmal etwas ganz Anderes und Sinnvolles m
 achen\, das wollen viele. Das Ehepaar Kathrin und Klaus Thomas aus dem Hun
 srück hat sich den Wunsch in Jerusalem verwirklicht. Für ein Jahr übernahm
 en sie ein Volontariat in der Evangelischen Erlösergemeinde in Jerusalem\,
  die auf dem Ölberg das Café Auguste Victoria betreibt. Dort findet sich d
 ie Himmelfahrtkirche der Evangelischen Gemeinde deutscher Sprache zu Jerus
 alem\, von deren Turm aus sich ein grandioser Blick über die Altstadt und 
 die judäischen Berge bietet. \nDie beiden Freiwilligen berichten von ihrem
  Dienst im Café und der Gemeinde\, den sie von 2021-2022 geleistet haben\,
  und von Begegnungen und Eindrücken aus dem Heiligen Land.\nFörderbereich:
  Lebensformen\, Partnerschaft\, Ehe\, Familie\nReferent/in: Klaus Thomas u
 nd Dr. Katrin Behnisch-Thomas\nAnsprechpartner/in - Leitung: Margit Büttne
 r\nKosten: freiwilliger Beitrag\nZusatzinformationen: bis 01.12.2023\n: \n
 Ansprechpartner: Margit Büttner mbuettner@eeb-sued.de\nTelefon 06761/7018
DTSTART;TZID=Europe/Berlin:20231205T100000
DTEND;TZID=Europe/Berlin:20231205T120000
LOCATION:Koblenz: Ev. Kirchenkreis Koblenz\, Superintendentur
SUMMARY:Freiwilligendienst im Alter – ein Jahr in Jerusalem :: Das Ehepaar 
 Kathrin und Klaus Thomas verbrachte im Ruhestand ein freiwilliges Jahr in 
 der Evangelischen Gemeinde deutscher Sprache in Jerusalem und be
URL:https://termine.ekir.de/veranstaltung_im_detail717935.html
END:VEVENT
END:VCALENDAR
