BEGIN:VCALENDAR
VERSION:2.0
PRODID:-//evangelische-termine.de//NONSGML kigkonsult.se iCalcreator 2.18//
CALSCALE:GREGORIAN
METHOD:PUBLISH
X-WR-CALNAME:iCal Evangelische-Termine 19.04.2026
X-WR-CALDESC:iCalender von Evangelische-Termine (19.04.2026)
X-WR-TIMEZONE:Europe/Berlin
X-MS-OLK-FORCEINSPECTOROPEN:TRUE
BEGIN:VTIMEZONE
TZID:Europe/Berlin
BEGIN:STANDARD
DTSTART:19701025T030000
TZOFFSETFROM:+0200
TZOFFSETTO:+0100
RRULE:FREQ=YEARLY;BYDAY=-1SU;BYMONTH=10
TZNAME:CET
END:STANDARD
BEGIN:DAYLIGHT
DTSTART:19700329T020000
TZOFFSETFROM:+0100
TZOFFSETTO:+0200
RRULE:FREQ=YEARLY;BYDAY=-1SU;BYMONTH=3
TZNAME:CEST
END:DAYLIGHT
END:VTIMEZONE
BEGIN:VEVENT
UID:20231010T100000-717941@evangelische-termine.de
DTSTAMP:20260419T175654Z
DESCRIPTION:\nKirchenkreis: überregional\nArt der Veranstaltung: Fortbildun
 gen / Seminare / Vorträge\nVeranstaltungsort: Ev. Kirchenkreis Koblenz\, S
 uperintendentur\nMainzer Str. 81\n56075 Koblenz\nKurzbeschreibung / Untert
 itel: Am Beispiel des Koblenzer Arztes und Heimatforschers Dr. Fritz Miche
 l (1877-1966) wird die dunkle Geschichte der Eugenik beleuchtet.\nAusführl
 iche Beschreibung: Die eugenische Lehre\, die ihre Wurzeln im 19. Jahrhund
 ert hatte\, verband die Erkenntnisse der modernen Vererbungslehre und der 
 Evolutionstheorie Charles Darwins mit gesellschaftspolitischen Leitvorstel
 lungen. Sie sah die primäre Aufgabe staatlicher Gesundheitspolitik in der 
 aktiven Steuerung der natürlichen Selektion in der Bevölkerung durch Stärk
 ung „hochwertiger“ Erbanlagen bei gleichzeitiger Zurückdrängung „minderwer
 tiger“. Ziel der Eugeniker war es\, einem vermeintlich drohenden gesellsch
 aftlichen Niedergang\, vor dem man sich in Deutschland nach dem verlorenen
  Weltkrieg besonders stark fürchtete\, durch gezielte bevölkerungspolitisc
 he Maßnahmen entgegenzuwirken – etwa durch Förderung von Ehen zwischen „ge
 netisch gesunden“ Menschen und Eindämmung der Fortpflanzung von Menschen m
 it genetisch bedingten Krankheiten durch Sterilisierung. Solche eugenische
 n Denkmuster waren seit den 1920er Jahren von links bis rechts in allen po
 litischen Lagern (außer der KPD) und auch außerhalb Deutschlands zu finden
 .\nAm Beispiel des Koblenzer Arztes und Heimatforschers Dr. Fritz Michel (
 1877-1966) wird die dunkle Geschichte der Eugenik beleuchtet.  \n\nAuf der
  Erinnerungsstele neben dem Denkmal am Krankenhaus Ev. Stift befindet sich
  ein QR-Code\, über den sich Informationen zum Thema und zur Person Fritz 
 Michels abrufen lassen.\nFörderbereich: Politische Bildung\nReferent/in: D
 r. Andreas Metzing\nAnsprechpartner/in - Leitung: Margit Büttner\nKosten: 
 freiwilliger Beitrag\nZusatzinformationen: Anmeldung bis 07.10.2023\n: \nA
 nsprechpartner: Margit Büttner mbuettner@eeb-sued.de\nTelefon 06761/7018
DTSTART;TZID=Europe/Berlin:20231010T100000
DTEND;TZID=Europe/Berlin:20231010T120000
LOCATION:Koblenz: Ev. Kirchenkreis Koblenz\, Superintendentur
SUMMARY:Zwangssterilisationen in der NS-Zeit und der lange Schatten eugenis
 chen Denkens im 20. Jahrhundert. :: Am Beispiel des Koblenzer Arztes und H
 eimatforschers Dr. Fritz Michel (1877-1966) wird die dunkle Geschichte der
  Eugenik beleuchtet. 
URL:https://termine.ekir.de/veranstaltung_im_detail717941.html
END:VEVENT
END:VCALENDAR
