BEGIN:VCALENDAR
VERSION:2.0
PRODID:-//evangelische-termine.de//NONSGML kigkonsult.se iCalcreator 2.18//
CALSCALE:GREGORIAN
METHOD:PUBLISH
X-WR-CALNAME:iCal Evangelische-Termine 19.04.2026
X-WR-CALDESC:iCalender von Evangelische-Termine (19.04.2026)
X-WR-TIMEZONE:Europe/Berlin
X-MS-OLK-FORCEINSPECTOROPEN:TRUE
BEGIN:VTIMEZONE
TZID:Europe/Berlin
BEGIN:STANDARD
DTSTART:19701025T030000
TZOFFSETFROM:+0200
TZOFFSETTO:+0100
RRULE:FREQ=YEARLY;BYDAY=-1SU;BYMONTH=10
TZNAME:CET
END:STANDARD
BEGIN:DAYLIGHT
DTSTART:19700329T020000
TZOFFSETFROM:+0100
TZOFFSETTO:+0200
RRULE:FREQ=YEARLY;BYDAY=-1SU;BYMONTH=3
TZNAME:CEST
END:DAYLIGHT
END:VTIMEZONE
BEGIN:VEVENT
UID:20231108T143000-717944@evangelische-termine.de
DTSTAMP:20260419T194644Z
DESCRIPTION:\nKirchenkreis: Altenkirchen\nArt der Veranstaltung: Fortbildun
 gen / Seminare / Vorträge\nVeranstaltungsort: Ev. Gemeindezentrum Altenkir
 chen\nStadthallenweg 16\n57610 Altenkirchen\nKurzbeschreibung / Untertitel
 : Martin\, Nikolaus und andere im evangelischen Kirchenjahr\nAusführliche 
 Beschreibung: Die evangelische Kirche kennt keine Heiligenverehrung. Grund
  dafür ist die radikale Kritik Martin Luthers\, der selbst noch ganz mit d
 er Heiligenverehrung aufgewachsen war\, später aber den Eindruck hatte\, d
 ass die Leute mehr Zuversicht auf die Heiligen als auf Christus selbst zu 
 setzen schienen.\nWer aber im Gesangbuch im hinteren Teil den liturgischen
  Kalender aufschlägt\, findet dort neben den Sonntagen und wichtigen Feste
 n im Kirchenjahr auch Gedenktage von Heiligen verzeichnet\, z.B. Stephanus
  am 26. Dezember\, Johannes den Täufer am 24. Juni\, und sogar Allerheilig
 en am 1. November als „Gedenktag der Heiligen“. Neu hinzugekommen sind sei
 t kurzem auch die beiden wohl populärsten Heiligen Bischof Martin von Tour
 s am Martinstag\, dem 11. November\, und Bischof Nikolaus von Myra am Niko
 laustag\, dem 6. Dezember. \nDas ist wohl weniger eine Abkehr von reformat
 orischer Theologie als vielmehr eine Ableitung aus der tatsächlichen Praxi
 s evangelischer Gemeinden\, in der Martin als diakonisches Vorbild und der
  Nikolaus als Freund der Kinder präsent sind.\nFörderbereich: Religiöse Bi
 ldung\, Religionen\, Theologie\, Ethik\, Grenzfragen\nReferent/in: Margit 
 Büttner\, Pfarrerin und Bildungsreferentin im eeb\nAnsprechpartner/in - Le
 itung: Margit Büttner\nKosten: kostenlos\nZusatzinformationen: Anmeldung n
 icht erforderlich!\nAnsprechpartner: Margit Büttner mbuettner@eeb-sued.de
 \nTelefon 06761/7018
DTSTART;TZID=Europe/Berlin:20231108T143000
DTEND;TZID=Europe/Berlin:20231108T163000
LOCATION:Altenkirchen: Ev. Gemeindezentrum Altenkirchen
SUMMARY:Evangelische Heilige? :: Martin\, Nikolaus und andere im evangelisc
 hen Kirchenjahr
URL:https://termine.ekir.de/veranstaltung_im_detail717944.html
END:VEVENT
END:VCALENDAR
