BEGIN:VCALENDAR
VERSION:2.0
PRODID:-//evangelische-termine.de//NONSGML kigkonsult.se iCalcreator 2.18//
CALSCALE:GREGORIAN
METHOD:PUBLISH
X-WR-CALNAME:iCal Evangelische-Termine 19.04.2026
X-WR-CALDESC:iCalender von Evangelische-Termine (19.04.2026)
X-WR-TIMEZONE:Europe/Berlin
X-MS-OLK-FORCEINSPECTOROPEN:TRUE
BEGIN:VTIMEZONE
TZID:Europe/Berlin
BEGIN:STANDARD
DTSTART:19701025T030000
TZOFFSETFROM:+0200
TZOFFSETTO:+0100
RRULE:FREQ=YEARLY;BYDAY=-1SU;BYMONTH=10
TZNAME:CET
END:STANDARD
BEGIN:DAYLIGHT
DTSTART:19700329T020000
TZOFFSETFROM:+0100
TZOFFSETTO:+0200
RRULE:FREQ=YEARLY;BYDAY=-1SU;BYMONTH=3
TZNAME:CEST
END:DAYLIGHT
END:VTIMEZONE
BEGIN:VEVENT
UID:20231115T143000-717945@evangelische-termine.de
DTSTAMP:20260419T193601Z
DESCRIPTION:\nKirchenkreis: Koblenz\nArt der Veranstaltung: Fortbildungen /
  Seminare / Vorträge\nVeranstaltungsort: Cafè Atempause in der Christuskir
 che in Koblenz\nHohenzollernstraße 2\n56068 Koblenz\nKurzbeschreibung / Un
 tertitel: Martin\, Nikolaus und andere im evangelischen Kirchenjahr\nAusfü
 hrliche Beschreibung: Die evangelische Kirche kennt keine Heiligenverehrun
 g. Grund dafür ist die radikale Kritik Martin Luthers\, der selbst noch ga
 nz mit der Heiligenverehrung aufgewachsen war\, später aber den Eindruck h
 atte\, dass die Leute mehr Zuversicht auf die Heiligen als auf Christus se
 lbst zu setzen schienen.\nWer aber im Gesangbuch im hinteren Teil den litu
 rgischen Kalender aufschlägt\, findet dort neben den Sonntagen und wichtig
 en Festen im Kirchenjahr auch Gedenktage von Heiligen verzeichnet\, z.B. S
 tephanus am 26. Dezember\, Johannes den Täufer am 24. Juni\, und sogar All
 erheiligen am 1. November als „Gedenktag der Heiligen“. Neu hinzugekommen 
 sind seit kurzem auch die beiden wohl populärsten Heiligen Bischof Martin 
 von Tours am Martinstag\, dem 11. November\, und Bischof Nikolaus von Myra
  am Nikolaustag\, dem 6. Dezember. \nDas ist wohl weniger eine Abkehr von 
 reformatorischer Theologie als vielmehr eine Ableitung aus der tatsächlich
 en Praxis evangelischer Gemeinden\, in der Martin als diakonisches Vorbild
  und der Nikolaus als Freund der Kinder präsent sind.\nFörderbereich: Reli
 giöse Bildung\, Religionen\, Theologie\, Ethik\, Grenzfragen\nReferent/in:
  Margit Büttner\, Pfarrerin und Bildungsreferentin im eeb\nAnsprechpartner
 /in - Leitung: Margit Büttner\nKosten: kostenlos\nZusatzinformationen: Anm
 eldung nicht erforderlich!\nAnsprechpartner: Margit Büttner mbuettner@eeb-
 sued.de\nTelefon 06761/7018
DTSTART;TZID=Europe/Berlin:20231115T143000
DTEND;TZID=Europe/Berlin:20231115T163000
LOCATION:Koblenz: Cafè Atempause in der Christuskirche in Koblenz
SUMMARY:Evangelische Heilige? :: Martin\, Nikolaus und andere im evangelisc
 hen Kirchenjahr
URL:https://termine.ekir.de/veranstaltung_im_detail717945.html
END:VEVENT
END:VCALENDAR
