BEGIN:VCALENDAR
VERSION:2.0
PRODID:-//evangelische-termine.de//NONSGML kigkonsult.se iCalcreator 2.18//
CALSCALE:GREGORIAN
METHOD:PUBLISH
X-WR-CALNAME:iCal Evangelische-Termine 19.04.2026
X-WR-CALDESC:iCalender von Evangelische-Termine (19.04.2026)
X-WR-TIMEZONE:Europe/Berlin
X-MS-OLK-FORCEINSPECTOROPEN:TRUE
BEGIN:VTIMEZONE
TZID:Europe/Berlin
BEGIN:STANDARD
DTSTART:19701025T030000
TZOFFSETFROM:+0200
TZOFFSETTO:+0100
RRULE:FREQ=YEARLY;BYDAY=-1SU;BYMONTH=10
TZNAME:CET
END:STANDARD
BEGIN:DAYLIGHT
DTSTART:19700329T020000
TZOFFSETFROM:+0100
TZOFFSETTO:+0200
RRULE:FREQ=YEARLY;BYDAY=-1SU;BYMONTH=3
TZNAME:CEST
END:DAYLIGHT
END:VTIMEZONE
BEGIN:VEVENT
UID:20230913T100000-717946@evangelische-termine.de
DTSTAMP:20260419T160904Z
DESCRIPTION:\nKirchenkreis: überregional\nVeranstaltungsort: Versöhnungskir
 che\nIm Flürchen 16\n56077 Koblenz\nKurzbeschreibung / Untertitel: Warum s
 ind Kirchen anders als alle anderen Räume? Woher kommt ihre besondere Auss
 trahlung? Was bedeuten Ihnen die Gotteshäuser\, die Kirchen\, Ihre Kirc\nA
 usführliche Beschreibung: Wir haben in unsrem Leben schon viele Kirchen ge
 sehen. Keine gleicht der anderen. Jede ist auf ihre Art besonders. Jede is
 t ein Glaubenszeugnis ihrer Zeit. Und jede Kirche\, die wir besuchen\, geh
 t mit uns in einen Dialog. Sie sagt: schön\, dass du da bist. Lass Dich au
 f mich ein. Wir nehmen Geräusche wahr\, wir sehen Bilder\, wir fühlen Mate
 rialien\, Holz Steine\, Glas... wir fühlen uns wohl und geborgen oder befr
 emdet und irritiert. Kirchen sind vertraut und fremd zugleich.\nAber warum
  ist das so? Warum sind Kirchen anders als alle anderen Räume? Woher kommt
  ihre besondere Ausstrahlung? Und: Was bedeuten Ihnen die Gotteshäuser\, w
 as bedeutet Ihnen Ihre Kirche?\nFörderbereich: Religiöse Bildung\, Religio
 nen\, Theologie\, Ethik\, Grenzfragen\nReferent/in: Margit Büttner\, Pfarr
 erin und Bildungsreferentin im eeb\nAnsprechpartner/in - Leitung: Margit B
 üttner\nKosten: kostenlos\nZusatzinformationen: Anmeldung nicht erforderli
 ch!\nAnsprechpartner: Margit Büttner mbuettner@eeb-sued.de\nTelefon 06761/
 7018
DTSTART;TZID=Europe/Berlin:20230913T100000
DTEND;TZID=Europe/Berlin:20230913T120000
LOCATION:Koblenz: Versöhnungskirche
SUMMARY:Gotteshäuser – Kirchenräume: Vertraut und fremd zugleich :: Warum s
 ind Kirchen anders als alle anderen Räume? Woher kommt ihre besondere Auss
 trahlung? Was bedeuten Ihnen die Gotteshäuser\, die Kirchen\, Ihre Kirc
URL:https://termine.ekir.de/veranstaltung_im_detail717946.html
END:VEVENT
END:VCALENDAR
