BEGIN:VCALENDAR
VERSION:2.0
PRODID:-//evangelische-termine.de//NONSGML kigkonsult.se iCalcreator 2.18//
CALSCALE:GREGORIAN
METHOD:PUBLISH
X-WR-CALNAME:iCal Evangelische-Termine 19.04.2026
X-WR-CALDESC:iCalender von Evangelische-Termine (19.04.2026)
X-WR-TIMEZONE:Europe/Berlin
X-MS-OLK-FORCEINSPECTOROPEN:TRUE
BEGIN:VTIMEZONE
TZID:Europe/Berlin
BEGIN:STANDARD
DTSTART:19701025T030000
TZOFFSETFROM:+0200
TZOFFSETTO:+0100
RRULE:FREQ=YEARLY;BYDAY=-1SU;BYMONTH=10
TZNAME:CET
END:STANDARD
BEGIN:DAYLIGHT
DTSTART:19700329T020000
TZOFFSETFROM:+0100
TZOFFSETTO:+0200
RRULE:FREQ=YEARLY;BYDAY=-1SU;BYMONTH=3
TZNAME:CEST
END:DAYLIGHT
END:VTIMEZONE
BEGIN:VEVENT
UID:20230918T000000-717947@evangelische-termine.de
DTSTAMP:20260419T175652Z
DESCRIPTION:\nKirchenkreis: überregional\nArt der Veranstaltung: Fortbildun
 gen / Seminare / Vorträge\nVeranstaltungsort: Ev. Akademie Altenkirchen e.
 V.\nDieperzbergweg 13-17\n57610 Altenkirchen\nKurzbeschreibung / Untertite
 l: Coaching ist Anleiten\, Lehren\, Beraten\, Fördern – immer auf freiwill
 iger Basis\, mit klar abgegrenztem Auftrag\, einvernehmlich und auf Zeit.
 \nAusführliche Beschreibung: ZIELE – Coaching ist Beratung ohne Ratschläge
 . Im Gespräch hilft ein Coach\, einen individuellen Lösungsweg zu finden.
 \nDie uns anvertrauten Menschen profitieren davon: Probleme lösen\, Ziele 
 erreichen\, Motivation aufbauen\, Eigenständigkeit fördern und Ressourcen 
 stärken.\nDas passt gut in die kirchliche und soziale Arbeit. Auch in eine
 r modernen Mitarbeiterführung und der Arbeit mit Ehrenamtlichen gehören Co
 aching-Fähigkeiten zu einem guten Führungsstil.\n\nMETHODEN\nDie Tools aus
  der Neurolinguistik verbinden Systemische Beratung\, Hypno- und Gestaltth
 erapie\, Neurowissenschaften und Kommunikationspsychologie zu einem faszin
 ierenden Ganzen. Dazu kommt eine fachliche und ethisch-theologische Reflex
 ion für das eigene Arbeitsfeld.\nWir arbeiten abwechslungsreich im Plenum 
 und Kleingruppen an unseren eigenen Erfahrungen und üben die Coaching-Tool
 s direkt miteinander.\nDie Fortbildung lebt vom Übertrag in die Praxis. Di
 e Online Treffen haben sich bewährt\, um an der Umsetzung zwischen den Mod
 ulen dran zu bleiben.\nInternetadresse (eigene Infos im Internet): https:/
 /www.lja.de/\nFörderbereich: Abschluss- und schulabschlussbezogene Bildung
 \nReferent/in: Sebastian Heilmann\, Diakon\, Master-Coach & Lehrtrainer (D
 VNLP)\, Supervisor (DGSv)\nKosten: 2.550\,– € zzgl. 250\,– € für die Zerti
 fizierung\nZusatzinformationen: https://www.lja.de/veranstaltungen/2342666
 /2023/09/18/coaching-tools-%E2%80%93-nlp-f%C3%BCr-kirchliche-und-soziale-b
 erufe\,-jugendarbeit\,-gemeinde-und-diakonie.html
DTSTART;VALUE=DATE:20230918
DTEND;VALUE=DATE:20240615
LOCATION:Altenkirchen: Ev. Akademie Altenkirchen e.V.
SUMMARY:Coaching Tools – NLP für kirchliche und soziale Berufe\, Jugendarbe
 it\, Gemeinde und Diakonie :: Coaching Tools\, NLP-Ausbildung mit Zertifiz
 ierung
URL:https://termine.ekir.de/veranstaltung_im_detail717947.html
END:VEVENT
END:VCALENDAR
