BEGIN:VCALENDAR
VERSION:2.0
PRODID:-//evangelische-termine.de//NONSGML kigkonsult.se iCalcreator 2.18//
CALSCALE:GREGORIAN
METHOD:PUBLISH
X-WR-CALNAME:iCal Evangelische-Termine 19.04.2026
X-WR-CALDESC:iCalender von Evangelische-Termine (19.04.2026)
X-WR-TIMEZONE:Europe/Berlin
X-MS-OLK-FORCEINSPECTOROPEN:TRUE
BEGIN:VTIMEZONE
TZID:Europe/Berlin
BEGIN:STANDARD
DTSTART:19701025T030000
TZOFFSETFROM:+0200
TZOFFSETTO:+0100
RRULE:FREQ=YEARLY;BYDAY=-1SU;BYMONTH=10
TZNAME:CET
END:STANDARD
BEGIN:DAYLIGHT
DTSTART:19700329T020000
TZOFFSETFROM:+0100
TZOFFSETTO:+0200
RRULE:FREQ=YEARLY;BYDAY=-1SU;BYMONTH=3
TZNAME:CEST
END:DAYLIGHT
END:VTIMEZONE
BEGIN:VEVENT
UID:20230807T000000-717948@evangelische-termine.de
DTSTAMP:20260419T160904Z
DESCRIPTION:\nKirchenkreis: überregional\nArt der Veranstaltung: Fortbildun
 gen / Seminare / Vorträge\nVeranstaltungsort: Haus am Wiesengrund in Nürnb
 recht\nÜberdorf 8\n51588 Nürnbrecht\nKurzbeschreibung / Untertitel: Sozial
 e Kompetenzen von Jugendlichen beziehen sich heutzutage auf ein großes Fel
 d von verschiedenen Fähigkeiten.\nAusführliche Beschreibung: Soziale Kompe
 tenzen von Jugendlichen beziehen sich heutzutage auf ein großes Feld von v
 erschiedenen Fähigkeiten. Zu den wichtigsten Kompetenzen gehören die Fähig
 keit zur Bildung positiver Beziehungen zu gleichaltrigen\, die Fähigkeit s
 ich kooperativ in Gruppen zu verhalten\, Durchsetzungsvermögen\, Selbstver
 trauen sowie das Erkennender eigenen Selbstwirksamkeit.\nGrundlage all die
 ser Kompetenzen ist immer die Kontaktaufnahme zu anderen.\nJugendliche tun
  dies zunehmend im Web in sozialen Netzwerken oder über Whatsapp. Hier kom
 munizieren sie mit Freunden direkt und schnell\, jedoch oft unverbindlich.
  geschriebenes dient zumeist zum Informationsaustausch. Soziale Kompetenze
 n können auf diesem Wege nur schwer erworben oder/und erweitert werden. Um
 so mehr brauchen sie Räume\, auch außerhalb von Schule\, in denen sie sich
  persönlich begegnen\, miteinander agieren\, sich ausprobieren und soziale
  Fähigkeiten ungezwungen erlernen.\nInternetadresse (eigene Infos im Inter
 net): https://www.lja.de/\nFörderbereich: Arbeitswelt- und berufsbezogene 
 Weiterbildung\nReferent/in: Meike Drey\, Komm. Akademieleitung\, Fachgebie
 t Jugendbildung/Jugendsoziologie\nKosten: 350\,– €\nZusatzinformationen: A
 nmeldung unter: https://www.lja.de/veranstaltungen/2371178/2023/08/07/sozi
 alkompetenztraining-wie-f%C3%B6rdere-ich-jugendliche-in-zeiten-von-whatsap
 p-und-instagram.html
DTSTART;VALUE=DATE:20230807
DTEND;VALUE=DATE:20230810
LOCATION:Nürnbrecht: Haus am Wiesengrund in Nürnbrecht
SUMMARY:Sozialkompetenztraining - Wie fördere ich Jugendliche in Zeiten von
  WhatsApp und Instagram :: Soziale Kompetenzen von Jugendlichen beziehen s
 ich heutzutage auf ein großes Feld von verschiedenen Fähigkeiten. 
URL:https://termine.ekir.de/veranstaltung_im_detail717948.html
END:VEVENT
END:VCALENDAR
