BEGIN:VCALENDAR
VERSION:2.0
PRODID:-//evangelische-termine.de//NONSGML kigkonsult.se iCalcreator 2.18//
CALSCALE:GREGORIAN
METHOD:PUBLISH
X-WR-CALNAME:iCal Evangelische-Termine 19.04.2026
X-WR-CALDESC:iCalender von Evangelische-Termine (19.04.2026)
X-WR-TIMEZONE:Europe/Berlin
X-MS-OLK-FORCEINSPECTOROPEN:TRUE
BEGIN:VTIMEZONE
TZID:Europe/Berlin
BEGIN:STANDARD
DTSTART:19701025T030000
TZOFFSETFROM:+0200
TZOFFSETTO:+0100
RRULE:FREQ=YEARLY;BYDAY=-1SU;BYMONTH=10
TZNAME:CET
END:STANDARD
BEGIN:DAYLIGHT
DTSTART:19700329T020000
TZOFFSETFROM:+0100
TZOFFSETTO:+0200
RRULE:FREQ=YEARLY;BYDAY=-1SU;BYMONTH=3
TZNAME:CEST
END:DAYLIGHT
END:VTIMEZONE
BEGIN:VEVENT
UID:20230925T133000-717949@evangelische-termine.de
DTSTAMP:20260419T175652Z
DESCRIPTION:\nKirchenkreis: überregional\nArt der Veranstaltung: Fortbildun
 gen / Seminare / Vorträge\nVeranstaltungsort: online\n- -\nKurzbeschreibun
 g / Untertitel: Die Themen Klimaschutz und ökologische Nachhaltigkeit sind
  große und komplexe Themen\, besonders wenn es um die eigenen Handlungsmög
 lichkeiten geht.\nAusführliche Beschreibung: Sie möchten diese Themen in I
 hren Gruppen bearbeiten? Sie suchen noch nach den passenden Methoden\, die
 se Themen für die eigene Zielgruppe passend aufzubereiten? In der Modulrei
 he erhalten Sie Fachwissen zu den Themen Bildung für nachhaltige Entwicklu
 ng\, Klimaschutz und ökologische Nachhaltigkeit. Wir werden uns mit versch
 iedenen Aspekten beschäftigen\, bezogen auf Ihre Zielgruppen. Es werden Me
 thoden und Spiele vorgestellt\, die Sie in Ihren Gruppen nutzen können.\nI
 nternetadresse (eigene Infos im Internet): https://www.lja.de\nFörderberei
 ch: Umwelt und Ökologie\nReferent/in: Henrike Lederer\, Studienleiterin\, 
 Fachgebiet Nachhaltige Entwicklung ländlicher Räume\nKosten: 80\,– €\nZusa
 tzinformationen: Anmeldung unter: https://www.lja.de/veranstaltungen/23455
 90/2023/09/25/klimaschutz-und-%C3%B6kologische-nachhaltigkeit-%E2%80%93-le
 ichtgemacht-2-teilige-online-modulreihe-f%C3%BCr-multiplikator-innen.html
DTSTART;TZID=Europe/Berlin:20230925T133000
DTEND;TZID=Europe/Berlin:20230925T173000
LOCATION:-: online
SUMMARY:Klimaschutz und ökologische Nachhaltigkeit – leichtgemacht? - 2-tei
 lige Online-Modulreihe für Multiplikator*innen :: Die Themen Klimaschutz u
 nd ökologische Nachhaltigkeit sind große und komplexe Themen\, besonders w
 enn es um die eigenen Handlungsmöglichkeiten geht.
URL:https://termine.ekir.de/veranstaltung_im_detail717949.html
END:VEVENT
END:VCALENDAR
