BEGIN:VCALENDAR
VERSION:2.0
PRODID:-//evangelische-termine.de//NONSGML kigkonsult.se iCalcreator 2.18//
CALSCALE:GREGORIAN
METHOD:PUBLISH
X-WR-CALNAME:iCal Evangelische-Termine 23.04.2026
X-WR-CALDESC:iCalender von Evangelische-Termine (23.04.2026)
X-WR-TIMEZONE:Europe/Berlin
X-MS-OLK-FORCEINSPECTOROPEN:TRUE
BEGIN:VTIMEZONE
TZID:Europe/Berlin
BEGIN:STANDARD
DTSTART:19701025T030000
TZOFFSETFROM:+0200
TZOFFSETTO:+0100
RRULE:FREQ=YEARLY;BYDAY=-1SU;BYMONTH=10
TZNAME:CET
END:STANDARD
BEGIN:DAYLIGHT
DTSTART:19700329T020000
TZOFFSETFROM:+0100
TZOFFSETTO:+0200
RRULE:FREQ=YEARLY;BYDAY=-1SU;BYMONTH=3
TZNAME:CEST
END:DAYLIGHT
END:VTIMEZONE
BEGIN:VEVENT
UID:20230912T090000-718285@evangelische-termine.de
DTSTAMP:20260423T105516Z
DESCRIPTION:\nKirchenkreis: überregional\nArt der Veranstaltung: Fortbildun
 gen / Seminare / Vorträge\nVeranstaltungsort: Ev. Erwachsenenbildungswerk 
 Rheinland-Süd e.V.\, Simmern\nHerzog-Reichard-Str. 30\n55469 Simmern\nKurz
 beschreibung / Untertitel: Eine Fortbildung für Pädagog*innen in Grundschu
 le und KiTa\nAusführliche Beschreibung: Für Sie als Pädagog*innnen wachsen
  stetig die Anforderungen im Beruf. Oft hastet man von einem Termin zum nä
 chsten und Personalengpässe gehören zum Alltag. Häufig können es kleine Ri
 tuale oder Übungen sein\, aus denen wir neue Kraft schöpfen und die uns du
 rchatmen lassen.\n\nIn dieser Fortbildung möchte ich Ihnen ein paar Moment
 e der Entspannung ermöglichen\, Einblicke geben\, wie man sich Erholungspa
 usen gönnen und was man selbst zur Psycho­hygiene beisteuern kann. Außerde
 m werden wir gemeinsam erarbeiten und teilen\, was unseren Beruf so besond
 ers und liebenswert macht.\n\nBei passendem Wetter kann die Fortbildung te
 ilweise unter freiem Himmel stattfinden.\n\nBitte mitbringen:\nMatte/Kisse
 n\nFörderbereich: Arbeitswelt- und berufsbezogene Weiterbildung\nReferent/
 in: Carina Stützel\nAnsprechpartner/in - Leitung: Carola Schick\nKosten: 8
 0\,– €\nZusatzinformationen: Anmeldung bis 22.08.23\n: \nAnsprechpartner: 
 Carola Schick eeb-sued@eeb-sued.de
DTSTART;TZID=Europe/Berlin:20230912T090000
DTEND;TZID=Europe/Berlin:20230912T163000
LOCATION:Simmern: Ev. Erwachsenenbildungswerk Rheinland-Süd e.V.\, Simmern
SUMMARY:Auszeit zum Kraft tanken und Wohlfühlen
URL:https://termine.ekir.de/veranstaltung_im_detail718285.html
END:VEVENT
END:VCALENDAR
