BEGIN:VCALENDAR
VERSION:2.0
PRODID:-//evangelische-termine.de//NONSGML kigkonsult.se iCalcreator 2.18//
CALSCALE:GREGORIAN
METHOD:PUBLISH
X-WR-CALNAME:iCal Evangelische-Termine 19.04.2026
X-WR-CALDESC:iCalender von Evangelische-Termine (19.04.2026)
X-WR-TIMEZONE:Europe/Berlin
X-MS-OLK-FORCEINSPECTOROPEN:TRUE
BEGIN:VTIMEZONE
TZID:Europe/Berlin
BEGIN:STANDARD
DTSTART:19701025T030000
TZOFFSETFROM:+0200
TZOFFSETTO:+0100
RRULE:FREQ=YEARLY;BYDAY=-1SU;BYMONTH=10
TZNAME:CET
END:STANDARD
BEGIN:DAYLIGHT
DTSTART:19700329T020000
TZOFFSETFROM:+0100
TZOFFSETTO:+0200
RRULE:FREQ=YEARLY;BYDAY=-1SU;BYMONTH=3
TZNAME:CEST
END:DAYLIGHT
END:VTIMEZONE
BEGIN:VEVENT
UID:20230919T090000-718286@evangelische-termine.de
DTSTAMP:20260419T174024Z
DESCRIPTION:\nKirchenkreis: überregional\nArt der Veranstaltung: Fortbildun
 gen / Seminare / Vorträge\nVeranstaltungsort: Ev. Erwachsenenbildungswerk 
 Rheinland-Süd e.V.\, Simmern\nHerzog-Reichard-Str. 30\n55469 Simmern\nKurz
 beschreibung / Untertitel: Von schöner Sprache und großen Gefühlen\nAusfüh
 rliche Beschreibung: Von schöner Sprache und großen Gefühlen\n\nBilderbüch
 er spielen in der Lebenswelt der Kinder eine große Rolle. Die Geschichten 
 und ihre Akteure helfen ihnen\, die Welt kennenzulernen\, Neues zu begreif
 en. Sie bieten Identifikationsfiguren\, fördern die Kreativität\, sind der
  erste Kontakt mit Kultur und sind unverzichtbar für die Sprachförderung. 
 Doch mit welchen Büchern kann ich die Lust auf Sprache wecken? Wir schauen
  uns Wimmelbücher\, Kettengeschichten und Episodenerzählungen an und lerne
 n einige Möglichkeiten des Einsatzes.\n\nIn Ihrer täglichen Arbeit mit den
  Kindern werden Sie immer wieder mit Gefühlen wie Wut\, Angst und Trauer k
 onfrontiert. Oft bietet sich an\, mit der Gruppe diese Thematik noch einma
 l zu besprechen und zu reflektieren. Zu den Themen Wut\, Angst\, Tod und T
 rauer stelle ich Ihnen 3 bis 4 Bilderbücher vor und einige kleine Projekti
 deen für die praktische Arbeit.\n\nErworbene Kompetenzen der Teilnehmer*in
 nen\n>	Sie haben Kenntnis über verschiedene Bilderbucharten und thematische
  \n	Bilderbücher\n>	Sie lernen geeignete Bilderbücher zur Sprachförderung ke
 nnen\n>	Sie entdecken geeignete Bilderbücher zur Thematik „Gefühle“\n>	Sie s
 etzen Projektideen für die Praxis um\n\nBitte bringen Sie Ihr Lieblingsbil
 derbuch mit!\nFörderbereich: Arbeitswelt- und berufsbezogene Weiterbildung
 \nReferent/in: Simone Jacken\nAnsprechpartner/in - Leitung: Carola Schick
 \nKosten: 80– €\nZusatzinformationen: Anmeldung bis zum 29.08.23\n: \nAnsp
 rechpartner: Carola Schick eeb-sued@eeb-sued.de
DTSTART;TZID=Europe/Berlin:20230919T090000
DTEND;TZID=Europe/Berlin:20230919T163000
LOCATION:Simmern: Ev. Erwachsenenbildungswerk Rheinland-Süd e.V.\, Simmern
SUMMARY:Bilderbuchwelten entdecken und gezielt  in der Kita umsetzen
URL:https://termine.ekir.de/veranstaltung_im_detail718286.html
END:VEVENT
END:VCALENDAR
