BEGIN:VCALENDAR
VERSION:2.0
PRODID:-//evangelische-termine.de//NONSGML kigkonsult.se iCalcreator 2.18//
CALSCALE:GREGORIAN
METHOD:PUBLISH
X-WR-CALNAME:iCal Evangelische-Termine 23.04.2026
X-WR-CALDESC:iCalender von Evangelische-Termine (23.04.2026)
X-WR-TIMEZONE:Europe/Berlin
X-MS-OLK-FORCEINSPECTOROPEN:TRUE
BEGIN:VTIMEZONE
TZID:Europe/Berlin
BEGIN:STANDARD
DTSTART:19701025T030000
TZOFFSETFROM:+0200
TZOFFSETTO:+0100
RRULE:FREQ=YEARLY;BYDAY=-1SU;BYMONTH=10
TZNAME:CET
END:STANDARD
BEGIN:DAYLIGHT
DTSTART:19700329T020000
TZOFFSETFROM:+0100
TZOFFSETTO:+0200
RRULE:FREQ=YEARLY;BYDAY=-1SU;BYMONTH=3
TZNAME:CEST
END:DAYLIGHT
END:VTIMEZONE
BEGIN:VEVENT
UID:20230926T090000-718288@evangelische-termine.de
DTSTAMP:20260423T104927Z
DESCRIPTION:\nKirchenkreis: überregional\nArt der Veranstaltung: Fortbildun
 gen / Seminare / Vorträge\nVeranstaltungsort: Ev. Erwachsenenbildungswerk 
 Rheinland-Süd e.V.\, Simmern\nHerzog-Reichard-Str. 30\n55469 Simmern\nKurz
 beschreibung / Untertitel: Kindeswohl und Kindeswohlgefährdung sind Begrif
 fe\, die im Kita-Alltag immer wieder auftauchen. Aber was genau verstehen 
 wir unter „Kindeswohl“ und dessen Gefährdung?\nAusführliche Beschreibung: 
 Welche Möglichkeiten gibt es in der Kita\, Gefährdungen zu erkennen und wi
 e gehen wir mit diesen Erkenntnissen um?\n\nDie oben genannten Fragen führ
 en oft zu Verunsicherung. Genau hier soll diese Fortbildung ansetzen. Es s
 oll gemeinsam erarbeitet werden\, wie Gefährdungen erkannt werden und wie 
 professionell darauf reagiert werden kann bzw. muss.\n\nInhalte:\n>	Rechtli
 che Grundlagen\n>	Kindeswohlgefährdungen erkennen/Formen der Kindeswohlgefä
 hrdung\n>	Gewährleistung des Kindeswohls\n>	Konzeption => Umsetzung Kindersc
 hutzkonzept\n>	Fazit\nFörderbereich: Arbeitswelt- und berufsbezogene Weiter
 bildung\nReferent/in: Sabine Baumgärtner\nAnsprechpartner/in - Leitung: Ca
 rola Schick\nKosten: 80\,– €\nZusatzinformationen: Anmeldung bis 05.09.23
 \n: \nAnsprechpartner: Carola Schick eeb-sued@eeb-sued.de
DTSTART;TZID=Europe/Berlin:20230926T090000
DTEND;TZID=Europe/Berlin:20230926T163000
LOCATION:Simmern: Ev. Erwachsenenbildungswerk Rheinland-Süd e.V.\, Simmern
SUMMARY:Kindeswohlgefährdungen erkennen und  Kinderschutz umsetzen Teil 2
URL:https://termine.ekir.de/veranstaltung_im_detail718288.html
END:VEVENT
END:VCALENDAR
