BEGIN:VCALENDAR
VERSION:2.0
PRODID:-//evangelische-termine.de//NONSGML kigkonsult.se iCalcreator 2.18//
CALSCALE:GREGORIAN
METHOD:PUBLISH
X-WR-CALNAME:iCal Evangelische-Termine 19.04.2026
X-WR-CALDESC:iCalender von Evangelische-Termine (19.04.2026)
X-WR-TIMEZONE:Europe/Berlin
X-MS-OLK-FORCEINSPECTOROPEN:TRUE
BEGIN:VTIMEZONE
TZID:Europe/Berlin
BEGIN:STANDARD
DTSTART:19701025T030000
TZOFFSETFROM:+0200
TZOFFSETTO:+0100
RRULE:FREQ=YEARLY;BYDAY=-1SU;BYMONTH=10
TZNAME:CET
END:STANDARD
BEGIN:DAYLIGHT
DTSTART:19700329T020000
TZOFFSETFROM:+0100
TZOFFSETTO:+0200
RRULE:FREQ=YEARLY;BYDAY=-1SU;BYMONTH=3
TZNAME:CEST
END:DAYLIGHT
END:VTIMEZONE
BEGIN:VEVENT
UID:20231107T090000-718289@evangelische-termine.de
DTSTAMP:20260419T175537Z
DESCRIPTION:\nKirchenkreis: überregional\nArt der Veranstaltung: Fortbildun
 gen / Seminare / Vorträge\nVeranstaltungsort: Ev. Erwachsenenbildungswerk 
 Rheinland-Süd e.V.\, Simmern\nHerzog-Reichard-Str. 30\n55469 Simmern\nKurz
 beschreibung / Untertitel: „Bildung für eine nachhaltige Entwicklung (BNE)
  will Menschen in die Lage versetzen\, nachhaltig zu denken und zu handeln
 .\nAusführliche Beschreibung: „Bildung für eine nachhaltige Entwicklung (B
 NE) will Menschen in die Lage versetzen\, nachhaltig zu denken und zu hand
 eln. Das erfordert die Auseinandersetzung mit dem Mensch-Natur-Verhältnis 
 und Fragen der Gerechtigkeit (vgl. u.a. Bund/Misereor (Hrsg.) 1996\, S. 30
 f\; Fritz/Schubert 2014 et al. 2012).\n\nUm Lösungen für Probleme zu entwi
 ckeln\, sind neben gesellschaftlichen Veränderungen das Überdenken eigener
  Haltungen und eigenen Handelns notwendig.\n\nDie Kombination von Wissense
 rwerb und forschendem Handeln unterstützt den Erwerb von vielfältigen Komp
 etenzen\, so auch der Gestaltungskompetenz inklusive sozialer Kompetenzen\
 , den Erwerb von Zutrauen in die eigenen Fähigkeiten\, kreatives und kriti
 sches Denken\, Reflexionsvermögen des eigenen Handelns mit der Frage „Was 
 brauche ich für ein gutes Leben?“\, ökologisches und regionales Bewusstsei
 n\, schonender Umgang mit Ressourcen und die Förderung kooperativen Verhal
 tens.\n\nInhalt:\n>	theoretischer Input zur Bildung nachhaltiger Entwicklun
 g\n>	praktische Erfahrungen in Workshops\n>	praktische Übungen für den Allta
 g und Reflektion eigener Alternativen\n>	ausreichende Möglichkeiten des Aus
 tausches\nFörderbereich: Arbeitswelt- und berufsbezogene Weiterbildung\nRe
 ferent/in: Annett Härtel\nAnsprechpartner/in - Leitung: Carola Schick\nKos
 ten: 80\,– €\nZusatzinformationen: Anmeldung bis 17.10.23\n: \nAnsprechpar
 tner: Carola Schick eeb-sued@eeb-sued.de
DTSTART;TZID=Europe/Berlin:20231107T090000
DTEND;TZID=Europe/Berlin:20231107T163000
LOCATION:Simmern: Ev. Erwachsenenbildungswerk Rheinland-Süd e.V.\, Simmern
SUMMARY:Bildung für nachhaltige Entwicklung  in der Kita-Grundlagenseminar
URL:https://termine.ekir.de/veranstaltung_im_detail718289.html
END:VEVENT
END:VCALENDAR
