BEGIN:VCALENDAR
VERSION:2.0
PRODID:-//evangelische-termine.de//NONSGML kigkonsult.se iCalcreator 2.18//
CALSCALE:GREGORIAN
METHOD:PUBLISH
X-WR-CALNAME:iCal Evangelische-Termine 19.04.2026
X-WR-CALDESC:iCalender von Evangelische-Termine (19.04.2026)
X-WR-TIMEZONE:Europe/Berlin
X-MS-OLK-FORCEINSPECTOROPEN:TRUE
BEGIN:VTIMEZONE
TZID:Europe/Berlin
BEGIN:STANDARD
DTSTART:19701025T030000
TZOFFSETFROM:+0200
TZOFFSETTO:+0100
RRULE:FREQ=YEARLY;BYDAY=-1SU;BYMONTH=10
TZNAME:CET
END:STANDARD
BEGIN:DAYLIGHT
DTSTART:19700329T020000
TZOFFSETFROM:+0100
TZOFFSETTO:+0200
RRULE:FREQ=YEARLY;BYDAY=-1SU;BYMONTH=3
TZNAME:CEST
END:DAYLIGHT
END:VTIMEZONE
BEGIN:VEVENT
UID:20231108T090000-718290@evangelische-termine.de
DTSTAMP:20260419T193309Z
DESCRIPTION:\nKirchenkreis: überregional\nArt der Veranstaltung: Fortbildun
 gen / Seminare / Vorträge\nVeranstaltungsort: Ev. Erwachsenenbildungswerk 
 Rheinland-Süd e.V.\, Simmern\nHerzog-Reichard-Str. 30\n55469 Simmern\nKurz
 beschreibung / Untertitel: Diese besondere Zeit im Jahr steckt voller magi
 scher Momente\, die man sehr schön in die Einrichtung transportieren kann.
 \nAusführliche Beschreibung: Der Winter steht vor der Tür\, die Tage werde
 n gefühlt kürzer und auch etwas dunkler\, und die Planung für die Vorweihn
 achtszeit ist in vollem Gange. Diese besondere Zeit im Jahr steckt voller 
 magischer Momente\, die man sehr schön in die Einrichtung transportieren k
 ann. In Form von ganzheitlichen und achtsamen Angeboten zu verschiedenen T
 hemen (z.B. Lichteffekte\, Farbenspiel\, Winterklänge) lassen sich die let
 zten Wochen im Jahr bereichern und die Vorfreude auf das Weihnachtsfest st
 eigern.\n\nBitte mitbringen:\nMatte/Kissen\nFörderbereich: Arbeitswelt- un
 d berufsbezogene Weiterbildung\nReferent/in: Carina Stützel\nAnsprechpartn
 er/in - Leitung: Carola Schick\nKosten: 80\,– €\nZusatzinformationen: Anme
 ldung bis 18.10.23\n: \nAnsprechpartner: Carola Schick eeb-sued@eeb-sued.d
 e
DTSTART;TZID=Europe/Berlin:20231108T090000
DTEND;TZID=Europe/Berlin:20231108T163000
LOCATION:Simmern: Ev. Erwachsenenbildungswerk Rheinland-Süd e.V.\, Simmern
SUMMARY:Lichterglanz und Weihnachtszauber
URL:https://termine.ekir.de/veranstaltung_im_detail718290.html
END:VEVENT
END:VCALENDAR
