BEGIN:VCALENDAR
VERSION:2.0
PRODID:-//evangelische-termine.de//NONSGML kigkonsult.se iCalcreator 2.18//
CALSCALE:GREGORIAN
METHOD:PUBLISH
X-WR-CALNAME:iCal Evangelische-Termine 19.04.2026
X-WR-CALDESC:iCalender von Evangelische-Termine (19.04.2026)
X-WR-TIMEZONE:Europe/Berlin
X-MS-OLK-FORCEINSPECTOROPEN:TRUE
BEGIN:VTIMEZONE
TZID:Europe/Berlin
BEGIN:STANDARD
DTSTART:19701025T030000
TZOFFSETFROM:+0200
TZOFFSETTO:+0100
RRULE:FREQ=YEARLY;BYDAY=-1SU;BYMONTH=10
TZNAME:CET
END:STANDARD
BEGIN:DAYLIGHT
DTSTART:19700329T020000
TZOFFSETFROM:+0100
TZOFFSETTO:+0200
RRULE:FREQ=YEARLY;BYDAY=-1SU;BYMONTH=3
TZNAME:CEST
END:DAYLIGHT
END:VTIMEZONE
BEGIN:VEVENT
UID:20231123T090000-718291@evangelische-termine.de
DTSTAMP:20260419T193332Z
DESCRIPTION:\nKirchenkreis: überregional\nArt der Veranstaltung: Fortbildun
 gen / Seminare / Vorträge\nVeranstaltungsort: Ev. Erwachsenenbildungswerk 
 Rheinland-Süd e.V.\, Simmern\nHerzog-Reichard-Str. 30\n55469 Simmern\nKurz
 beschreibung / Untertitel: Partizipation zu leben bedeutet\, die Kinderrec
 hte zu achten\, den Willen und die Meinung der Kinder zu hören und sie akt
 iv zu beteiligen.\nAusführliche Beschreibung: Partizipation ist ein Recht\
 , das jedem Kind zusteht\, und auch seitens des Gesetzgebers eingefordert 
 wird. Es soll in der Umsetzung die Kinder unterstützen\, ihr Selbstwertgef
 ühl zu stärken\, die Erfahrung ermöglichen\, (Mit-)Gestalter ihres Alltage
 s zu sein\, und helfen\, zu verantwortungsbewussten\, aktiven und sozial k
 ompetenten Menschen heranzuwachsen.\nPartizipation zu leben bedeutet\, die
  Kinderrechte zu achten\, den Willen und die Meinung der Kinder zu hören u
 nd sie aktiv zu beteiligen.\n\nInhalt:\n>	Partizipation in der Theorie\n>	Pa
 rtizipation als Haltung\n>	Partizipation als Teamgestaltung\n>	Partizipation
  in der Praxis\n>	Kinderbeschwerdemanagement\nFörderbereich: Arbeitswelt- u
 nd berufsbezogene Weiterbildung\nReferent/in: Annett Härtel\nAnsprechpartn
 er/in - Leitung: Carola Schick\nKosten: 80\,– €\nZusatzinformationen: Anme
 ldung bis 2.11.23\n: \nAnsprechpartner: Carola Schick eeb-sued@eeb-sued.de
DTSTART;TZID=Europe/Berlin:20231123T090000
DTEND;TZID=Europe/Berlin:20231123T163000
LOCATION:Simmern: Ev. Erwachsenenbildungswerk Rheinland-Süd e.V.\, Simmern
SUMMARY:Partizipation und  Kinderbeschwerdemanagement
URL:https://termine.ekir.de/veranstaltung_im_detail718291.html
END:VEVENT
END:VCALENDAR
