BEGIN:VCALENDAR
VERSION:2.0
PRODID:-//evangelische-termine.de//NONSGML kigkonsult.se iCalcreator 2.18//
CALSCALE:GREGORIAN
METHOD:PUBLISH
X-WR-CALNAME:iCal Evangelische-Termine 19.04.2026
X-WR-CALDESC:iCalender von Evangelische-Termine (19.04.2026)
X-WR-TIMEZONE:Europe/Berlin
X-MS-OLK-FORCEINSPECTOROPEN:TRUE
BEGIN:VTIMEZONE
TZID:Europe/Berlin
BEGIN:STANDARD
DTSTART:19701025T030000
TZOFFSETFROM:+0200
TZOFFSETTO:+0100
RRULE:FREQ=YEARLY;BYDAY=-1SU;BYMONTH=10
TZNAME:CET
END:STANDARD
BEGIN:DAYLIGHT
DTSTART:19700329T020000
TZOFFSETFROM:+0100
TZOFFSETTO:+0200
RRULE:FREQ=YEARLY;BYDAY=-1SU;BYMONTH=3
TZNAME:CEST
END:DAYLIGHT
END:VTIMEZONE
BEGIN:VEVENT
UID:20230719T173000-718300@evangelische-termine.de
DTSTAMP:20260419T160757Z
DESCRIPTION:\nKirchenkreis: überregional\nArt der Veranstaltung: Fortbildun
 gen / Seminare / Vorträge\nVeranstaltungsort: online\n- -\nKurzbeschreibun
 g / Untertitel: Online Workshop zur Facebook-Nutzung\nAusführliche Beschre
 ibung: Facebook-Auftritt effektiv gestalten – Unser Online-Workshop richte
 t sich an alle\, die eine Facebook-Fanseite einrichten oder ihren bestehen
 den Facebook-Auftritt optimieren wollen.\nInternetadresse (eigene Infos im
  Internet): http://www.elag.de\nFörderbereich: Technik\, Kulturtechniken\n
 Referent/in: Christian Gisinger\nAnsprechpartner/in - Leitung: Christian G
 isinger\nKosten: kostenlos\nZusatzinformationen: https://www.klug-handeln.
 de/index.php?id=7837\nAnsprechpartner: Christian Gisinger christian.gising
 er@elag.de
DTSTART;TZID=Europe/Berlin:20230719T173000
DTEND;TZID=Europe/Berlin:20230719T193000
LOCATION:-: online
SUMMARY:Facebook-Auftritt effektiv gestalten ----AUSGEBUCHT--- :: Online Wo
 rkshop zur Facebook-Nutzung
URL:https://termine.ekir.de/veranstaltung_im_detail718300.html
END:VEVENT
END:VCALENDAR
