BEGIN:VCALENDAR
VERSION:2.0
PRODID:-//evangelische-termine.de//NONSGML kigkonsult.se iCalcreator 2.18//
CALSCALE:GREGORIAN
METHOD:PUBLISH
X-WR-CALNAME:iCal Evangelische-Termine 19.04.2026
X-WR-CALDESC:iCalender von Evangelische-Termine (19.04.2026)
X-WR-TIMEZONE:Europe/Berlin
X-MS-OLK-FORCEINSPECTOROPEN:TRUE
BEGIN:VTIMEZONE
TZID:Europe/Berlin
BEGIN:STANDARD
DTSTART:19701025T030000
TZOFFSETFROM:+0200
TZOFFSETTO:+0100
RRULE:FREQ=YEARLY;BYDAY=-1SU;BYMONTH=10
TZNAME:CET
END:STANDARD
BEGIN:DAYLIGHT
DTSTART:19700329T020000
TZOFFSETFROM:+0100
TZOFFSETTO:+0200
RRULE:FREQ=YEARLY;BYDAY=-1SU;BYMONTH=3
TZNAME:CEST
END:DAYLIGHT
END:VTIMEZONE
BEGIN:VEVENT
UID:20230926T100000-718886@evangelische-termine.de
DTSTAMP:20260419T174114Z
DESCRIPTION:\nKirchenkreis: überregional\nArt der Veranstaltung: Fortbildun
 gen / Seminare / Vorträge\nVeranstaltungsort: online\n- -\nKurzbeschreibun
 g / Untertitel: Konzepte und Anwendungsmöglichkeiten zum Förderprogramm fü
 r Büchereien 'Gemeinsam Digital! Kreativ mit Medien'\nAusführliche Beschre
 ibung: Das neue Föderprogramm des Deutschen Bibliotheksverbandes (DBV) „Ge
 meinsam Digital! Kreativ mit Medien“ bietet Büchereien eine großartige Mög
 lichkeit\, Konzepte zu entwickeln und diese über dieses Förderprogramm zu 
 finanzieren\, ohne den eigenen Etat zu belasten. Dieses Online-Seminar gib
 t Ihnen einen kleinen Einblick und Anregungen\, wie das Föderprogramm in e
 iner Bücherei genutzt werden kann und Sie erhalten Hilfestellung\, wie Sie
  dazu sehr einfach Video- und Audiosequenzen herstellen können.\nInterneta
 dresse (eigene Infos im Internet): https://eeb-sued.de/veranstaltungen/\nF
 örderbereich: Bildung und Erziehung\nReferent/in: Carola Schick und Helena
  Schäuble\nKosten: 20€\nZusatzinformationen: Anmeldung bis 19.09.2023\n: 
 \nAnsprechpartner: Helena Schäuble anmeldung@eeb-sued.de\nTelefon 06761/70
 18\nwww.eeb-sued.de
DTSTART;TZID=Europe/Berlin:20230926T100000
DTEND;TZID=Europe/Berlin:20230926T123000
LOCATION:-: online
SUMMARY:Ideen und Umsetzungsmöglichkeiten: Föderprogramm „Gemeinsam Digital
 ! Kreativ mit Medien“ :: Online Workshop für Büchereien
URL:https://termine.ekir.de/veranstaltung_im_detail718886.html
END:VEVENT
END:VCALENDAR
