BEGIN:VCALENDAR
VERSION:2.0
PRODID:-//evangelische-termine.de//NONSGML kigkonsult.se iCalcreator 2.18//
CALSCALE:GREGORIAN
METHOD:PUBLISH
X-WR-CALNAME:iCal Evangelische-Termine 19.04.2026
X-WR-CALDESC:iCalender von Evangelische-Termine (19.04.2026)
X-WR-TIMEZONE:Europe/Berlin
X-MS-OLK-FORCEINSPECTOROPEN:TRUE
BEGIN:VTIMEZONE
TZID:Europe/Berlin
BEGIN:STANDARD
DTSTART:19701025T030000
TZOFFSETFROM:+0200
TZOFFSETTO:+0100
RRULE:FREQ=YEARLY;BYDAY=-1SU;BYMONTH=10
TZNAME:CET
END:STANDARD
BEGIN:DAYLIGHT
DTSTART:19700329T020000
TZOFFSETFROM:+0100
TZOFFSETTO:+0200
RRULE:FREQ=YEARLY;BYDAY=-1SU;BYMONTH=3
TZNAME:CEST
END:DAYLIGHT
END:VTIMEZONE
BEGIN:VEVENT
UID:20231007T100000-719024@evangelische-termine.de
DTSTAMP:20260419T173136Z
DESCRIPTION:\nKirchenkreis: überregional\nArt der Veranstaltung: Fortbildun
 gen / Seminare / Vorträge\nVeranstaltungsort: Stadtbücherei Kirn\nWilhem-D
 röscher-Platz 1\n55606 Kirn\nAusführliche Beschreibung: Kinder und Jugendl
 iche für Bücher interessieren\, dass ist nicht immer so einfach. Mit dem d
 igitale Büchersteckbrief haben Büchereimitarbeitende\, Lehrerinnen\, Lehre
 r und Interessierte neue Möglichkeiten das Thema Lesen wieder neu anzukurb
 eln. Das von der Stadtbücherei in Kirn erprobte Konzept wird vorgestellt u
 nd alle Teilnehmende haben viel Zeit\, alles selbst auszuprobieren.\nInter
 netadresse (eigene Infos im Internet): https://eeb-sued.de/veranstaltungen
 /\nFörderbereich: Ehrenamt\nReferent/in: Karin von Pronay\, Kerstin Weis\n
 Ansprechpartner/in - Leitung: Helena Schäuble\nKosten: 40€\nZusatzinformat
 ionen: Anmeldung bis 29.09.2023\n: 
DTSTART;TZID=Europe/Berlin:20231007T100000
DTEND;TZID=Europe/Berlin:20231007T160000
LOCATION:Kirn: Stadtbücherei Kirn
SUMMARY:Büchersteckbriefe digital erstellen :: Workshop für Mitarbeitende i
 n Büchereien\, Lehrer und Lehrerinnen und andere Interessierte.
URL:https://termine.ekir.de/veranstaltung_im_detail719024.html
END:VEVENT
END:VCALENDAR
