BEGIN:VCALENDAR
VERSION:2.0
PRODID:-//evangelische-termine.de//NONSGML kigkonsult.se iCalcreator 2.18//
CALSCALE:GREGORIAN
METHOD:PUBLISH
X-WR-CALNAME:iCal Evangelische-Termine 19.04.2026
X-WR-CALDESC:iCalender von Evangelische-Termine (19.04.2026)
X-WR-TIMEZONE:Europe/Berlin
X-MS-OLK-FORCEINSPECTOROPEN:TRUE
BEGIN:VTIMEZONE
TZID:Europe/Berlin
BEGIN:STANDARD
DTSTART:19701025T030000
TZOFFSETFROM:+0200
TZOFFSETTO:+0100
RRULE:FREQ=YEARLY;BYDAY=-1SU;BYMONTH=10
TZNAME:CET
END:STANDARD
BEGIN:DAYLIGHT
DTSTART:19700329T020000
TZOFFSETFROM:+0100
TZOFFSETTO:+0200
RRULE:FREQ=YEARLY;BYDAY=-1SU;BYMONTH=3
TZNAME:CEST
END:DAYLIGHT
END:VTIMEZONE
BEGIN:VEVENT
UID:20230919T093000-719029@evangelische-termine.de
DTSTAMP:20260419T173146Z
DESCRIPTION:\nKirchenkreis: überregional\nArt der Veranstaltung: Fortbildun
 gen / Seminare / Vorträge\nVeranstaltungsort: online\n- -\nKurzbeschreibun
 g / Untertitel: Nachhaltige Büroorganisation beginnt und endet nicht nur m
 it dem Papier.\nAusführliche Beschreibung: Es werden Möglichkeiten und Lös
 ungen vorgestellt. Unser Leben wird immer digitaler. Brauchen wir da überh
 aupt noch Papier? Aber wie können wir dieses Gefühl von „Ich habe es in – 
 greifbarer – Nähe“ loslassen und uns dem neuen digitalen Zeitalter und neu
 en Ordnungssystemen\, sowie den damit verbundenen neuen Möglichkeiten stel
 len. Der Workshop bietet Lösungen für den beruflichen und den alltäglichen
  Gebrauch. Wir werden uns mit der Vernetzung unserer Geräte (brauchen wir 
 die eigentlich alle?) ebenso auseinander setzten\, wie der Auffindbarkeit 
 der Daten im Netzwerk/Internet.\nFörderbereich: Technik\, Kulturtechniken
 \nReferent/in: Carola Schick\nAnsprechpartner/in - Leitung: Carola Schick
 \nKosten: 40\,- €\n: \nAnsprechpartner: Carola Schick eeb-sued@eeb-sued.de
DTSTART;TZID=Europe/Berlin:20230919T093000
DTEND;TZID=Europe/Berlin:20230919T123000
LOCATION:-: online
SUMMARY:Das papierlose Büro? :: Nachhaltige Büroorganisation beginnt und en
 det nicht nur mit dem Papier. 
URL:https://termine.ekir.de/veranstaltung_im_detail719029.html
END:VEVENT
END:VCALENDAR
