BEGIN:VCALENDAR
VERSION:2.0
PRODID:-//evangelische-termine.de//NONSGML kigkonsult.se iCalcreator 2.18//
CALSCALE:GREGORIAN
METHOD:PUBLISH
X-WR-CALNAME:iCal Evangelische-Termine 19.04.2026
X-WR-CALDESC:iCalender von Evangelische-Termine (19.04.2026)
X-WR-TIMEZONE:Europe/Berlin
X-MS-OLK-FORCEINSPECTOROPEN:TRUE
BEGIN:VTIMEZONE
TZID:Europe/Berlin
BEGIN:STANDARD
DTSTART:19701025T030000
TZOFFSETFROM:+0200
TZOFFSETTO:+0100
RRULE:FREQ=YEARLY;BYDAY=-1SU;BYMONTH=10
TZNAME:CET
END:STANDARD
BEGIN:DAYLIGHT
DTSTART:19700329T020000
TZOFFSETFROM:+0100
TZOFFSETTO:+0200
RRULE:FREQ=YEARLY;BYDAY=-1SU;BYMONTH=3
TZNAME:CEST
END:DAYLIGHT
END:VTIMEZONE
BEGIN:VEVENT
UID:20231005T100000-719040@evangelische-termine.de
DTSTAMP:20260419T172940Z
DESCRIPTION:\nKirchenkreis: überregional\nArt der Veranstaltung: Fortbildun
 gen / Seminare / Vorträge\nVeranstaltungsort: Ev. Erwachsenenbildungswerk 
 Rheinland-Süd e.V.\, Simmern\nHerzog-Reichard-Str. 30\n55469 Simmern\nKurz
 beschreibung / Untertitel: Berufsbegleitendes Seminar für Küsterinnen und 
 Küster und alle\, die es werden wollen.\nAusführliche Beschreibung: In die
 ser Fortbildung befassen wir uns in Theorie und Praxis mit der Farbsymboli
 k im Kirchenraum. Ebenfalls steht an diesem Tag ein Ausflug in die Trinita
 tiskirche in Ohlweiler auf dem Programm.\nFörderbereich: Arbeitswelt- und 
 berufsbezogene Weiterbildung\nReferent/in: Margit Büttner\, Carola Schick
 \nAnsprechpartner/in - Leitung: Margit Büttner\, Carola Schick\nKosten: 35
 \,-€\n: \nAnsprechpartner: Carola Schick eeb-sued@eeb-sued.de
DTSTART;TZID=Europe/Berlin:20231005T100000
DTEND;TZID=Europe/Berlin:20231005T160000
LOCATION:Simmern: Ev. Erwachsenenbildungswerk Rheinland-Süd e.V.\, Simmern
SUMMARY:Küsterinnen- und Küsterfortbildung - Reihe: Viel mehr als ein Hausm
 eister! - ABGESAGT! :: Berufsbegleitendes Seminar für Küsterinnen und Küst
 er und alle\, die es werden wollen.
URL:https://termine.ekir.de/veranstaltung_im_detail719040.html
END:VEVENT
END:VCALENDAR
