BEGIN:VCALENDAR
VERSION:2.0
PRODID:-//evangelische-termine.de//NONSGML kigkonsult.se iCalcreator 2.18//
CALSCALE:GREGORIAN
METHOD:PUBLISH
X-WR-CALNAME:iCal Evangelische-Termine 19.04.2026
X-WR-CALDESC:iCalender von Evangelische-Termine (19.04.2026)
X-WR-TIMEZONE:Europe/Berlin
X-MS-OLK-FORCEINSPECTOROPEN:TRUE
BEGIN:VTIMEZONE
TZID:Europe/Berlin
BEGIN:STANDARD
DTSTART:19701025T030000
TZOFFSETFROM:+0200
TZOFFSETTO:+0100
RRULE:FREQ=YEARLY;BYDAY=-1SU;BYMONTH=10
TZNAME:CET
END:STANDARD
BEGIN:DAYLIGHT
DTSTART:19700329T020000
TZOFFSETFROM:+0100
TZOFFSETTO:+0200
RRULE:FREQ=YEARLY;BYDAY=-1SU;BYMONTH=3
TZNAME:CEST
END:DAYLIGHT
END:VTIMEZONE
BEGIN:VEVENT
UID:20231104T100000-719118@evangelische-termine.de
DTSTAMP:20260419T175719Z
DESCRIPTION:\nKirchenkreis: überregional\nArt der Veranstaltung: Fortbildun
 gen / Seminare / Vorträge\nVeranstaltungsort: Ev. Gemeindehaus Remagen\nMa
 rktstraße 25\n53424 Remagen\nKurzbeschreibung / Untertitel: Ein Studientag
  für alle\, die interessiert sind an Gegenwartsliteratur.\nAusführliche Be
 schreibung: Anhand eines Pflichttitels beschäftigen wir uns mit der Gegenw
 artsliteratur\, bearbeiten Kriterien der Bewertung\, lernen\, wie wir ein 
 Buch vorstellen können und erarbeiten Veranstaltungsideen. Nach Ihrer Anme
 ldung erhalten Sie von uns die Information\, welches Buch Sie im Vorfeld f
 ür diesen Studientag lesen sollten. Aus diesem Grund sollten Sie sich zeit
 ig anmelden.\nInternetadresse (eigene Infos im Internet): https://eeb-sued
 .de/veranstaltungen/\nFörderbereich: Ehrenamt\nReferent/in: Helga Schwarze
 \nHelena Schäuble\nAnsprechpartner/in - Leitung: Helena Schäuble\nKosten: 
 20€ (ohne Verpflegung)\nZusatzinformationen: Anmeldung bis 20.10.2023\nNac
 h Ihrer Anmeldung erhalten Sie die Information\, welches Buch Sie zur Vorb
 ereitung lesen sollten.\n: 
DTSTART;TZID=Europe/Berlin:20231104T100000
DTEND;TZID=Europe/Berlin:20231104T170000
LOCATION:Remagen: Ev. Gemeindehaus Remagen
SUMMARY:Qualifizierungskurs Fit für die Büchereiarbeit :: Gegenwartsliterat
 ur
URL:https://termine.ekir.de/veranstaltung_im_detail719118.html
END:VEVENT
END:VCALENDAR
