BEGIN:VCALENDAR
VERSION:2.0
PRODID:-//evangelische-termine.de//NONSGML kigkonsult.se iCalcreator 2.18//
CALSCALE:GREGORIAN
METHOD:PUBLISH
X-WR-CALNAME:iCal Evangelische-Termine 19.04.2026
X-WR-CALDESC:iCalender von Evangelische-Termine (19.04.2026)
X-WR-TIMEZONE:Europe/Berlin
X-MS-OLK-FORCEINSPECTOROPEN:TRUE
BEGIN:VTIMEZONE
TZID:Europe/Berlin
BEGIN:STANDARD
DTSTART:19701025T030000
TZOFFSETFROM:+0200
TZOFFSETTO:+0100
RRULE:FREQ=YEARLY;BYDAY=-1SU;BYMONTH=10
TZNAME:CET
END:STANDARD
BEGIN:DAYLIGHT
DTSTART:19700329T020000
TZOFFSETFROM:+0100
TZOFFSETTO:+0200
RRULE:FREQ=YEARLY;BYDAY=-1SU;BYMONTH=3
TZNAME:CEST
END:DAYLIGHT
END:VTIMEZONE
BEGIN:VEVENT
UID:20230805T090000-719523@evangelische-termine.de
DTSTAMP:20260419T160904Z
DESCRIPTION:\nKirchenkreis: überregional\nArt der Veranstaltung: Fortbildun
 gen / Seminare / Vorträge\nVeranstaltungsort: ZOB\nSimmerner Str. 19\n5549
 4 Rheinböllen\nKurzbeschreibung / Untertitel: Tagesfahrt mit dem Soonwaldb
 us\nAusführliche Beschreibung: Auf den Spuren bekannter historischer Fraue
 n aus dem Soonwald\nInternetadresse (eigene Infos im Internet): https://si
 mmern-trarbach.ekir.de/thema/news-frauen\nFörderbereich: Gesellschaft\, Po
 litik und Wirtschaft\nReferent/in: Jörg Mehler\, Initiative Soonwald e.V.
 \nSusanne Reuter\, Frauenreferentin\nAnsprechpartner/in - Leitung: Susanne
  Reuter\, Frauenreferentin\nKosten: 25\,– € zzgl. Kosten für Mittagessen\n
 Zusatzinformationen: Während der Exkursion besteht die Möglichkeit zum Mit
 tagessen einzukehren. Die Kosen hierzu sind selbst zu tragen.\nAnmeldung b
 is 22.07.2023 unter frauenimkirchenkreis.simtra@ekir.de
DTSTART;TZID=Europe/Berlin:20230805T090000
DTEND;TZID=Europe/Berlin:20230805T190000
LOCATION:Rheinböllen: ZOB
SUMMARY:Frauen im Soonwald – unterwegs im Soonwald :: Tagesfahrt mit dem So
 onwaldbus
URL:https://termine.ekir.de/veranstaltung_im_detail719523.html
END:VEVENT
END:VCALENDAR
