BEGIN:VCALENDAR
VERSION:2.0
PRODID:-//evangelische-termine.de//NONSGML kigkonsult.se iCalcreator 2.18//
CALSCALE:GREGORIAN
METHOD:PUBLISH
X-WR-CALNAME:iCal Evangelische-Termine 19.04.2026
X-WR-CALDESC:iCalender von Evangelische-Termine (19.04.2026)
X-WR-TIMEZONE:Europe/Berlin
X-MS-OLK-FORCEINSPECTOROPEN:TRUE
BEGIN:VTIMEZONE
TZID:Europe/Berlin
BEGIN:STANDARD
DTSTART:19701025T030000
TZOFFSETFROM:+0200
TZOFFSETTO:+0100
RRULE:FREQ=YEARLY;BYDAY=-1SU;BYMONTH=10
TZNAME:CET
END:STANDARD
BEGIN:DAYLIGHT
DTSTART:19700329T020000
TZOFFSETFROM:+0100
TZOFFSETTO:+0200
RRULE:FREQ=YEARLY;BYDAY=-1SU;BYMONTH=3
TZNAME:CEST
END:DAYLIGHT
END:VTIMEZONE
BEGIN:VEVENT
UID:20230921T190000-719525@evangelische-termine.de
DTSTAMP:20260419T175721Z
DESCRIPTION:\nKirchenkreis: überregional\nArt der Veranstaltung: Fortbildun
 gen / Seminare / Vorträge\nVeranstaltungsort: Paul-Schneider-Haus\nKloster
 gasse 8\n55469 Simmern\nKurzbeschreibung / Untertitel: Ein Abend mit Pfarr
 erin i. R. Marie-Luise Jaske-Steinkamp\nAusführliche Beschreibung: Sie ber
 ichtet über ihre Erfahrungen als eine der ersten Pfarrerinnen in der Lande
 skirche. Wir werden mitgenommen in den Prozess der Veränderungen im Pfarra
 mt bis heute.\nInternetadresse (eigene Infos im Internet): https://simmern
 -trarbach.ekir.de/thema/news-frauen\nFörderbereich: Abschluss- und schulab
 schlussbezogene Bildung\nReferent/in: Pfarrerin i. R. Marie-Luise Jaske-St
 einkamp\nKosten: kostenlos\nZusatzinformationen: Anmeldung bis 18.09.2023 
 unter frauenimkirchenkreis.simtra@ekir.de
DTSTART;TZID=Europe/Berlin:20230921T190000
DTEND;TZID=Europe/Berlin:20230921T200000
LOCATION:Simmern: Paul-Schneider-Haus
SUMMARY:„Aus dem Nähkästchen geplaudert – eine Pfarrerin erzählt“ :: Ein Ab
 end mit Pfarrerin i. R. Marie-Luise Jaske-Steinkamp
URL:https://termine.ekir.de/veranstaltung_im_detail719525.html
END:VEVENT
END:VCALENDAR
