BEGIN:VCALENDAR
VERSION:2.0
PRODID:-//evangelische-termine.de//NONSGML kigkonsult.se iCalcreator 2.18//
CALSCALE:GREGORIAN
METHOD:PUBLISH
X-WR-CALNAME:iCal Evangelische-Termine 19.04.2026
X-WR-CALDESC:iCalender von Evangelische-Termine (19.04.2026)
X-WR-TIMEZONE:Europe/Berlin
X-MS-OLK-FORCEINSPECTOROPEN:TRUE
BEGIN:VTIMEZONE
TZID:Europe/Berlin
BEGIN:STANDARD
DTSTART:19701025T030000
TZOFFSETFROM:+0200
TZOFFSETTO:+0100
RRULE:FREQ=YEARLY;BYDAY=-1SU;BYMONTH=10
TZNAME:CET
END:STANDARD
BEGIN:DAYLIGHT
DTSTART:19700329T020000
TZOFFSETFROM:+0100
TZOFFSETTO:+0200
RRULE:FREQ=YEARLY;BYDAY=-1SU;BYMONTH=3
TZNAME:CEST
END:DAYLIGHT
END:VTIMEZONE
BEGIN:VEVENT
UID:20230911T090000-719526@evangelische-termine.de
DTSTAMP:20260419T160924Z
DESCRIPTION:\nKirchenkreis: überregional\nArt der Veranstaltung: Fortbildun
 gen / Seminare / Vorträge\nVeranstaltungsort: Zentrum für lebenslanges Ler
 nen – Rheinische Gesellschaft für Diakonie gGmbH\nMaiweg 150\n56841 Traben
 -Trarbach/Wolf\nKurzbeschreibung / Untertitel: 2-tägige Weiterbildung zum 
 Systemischen Kinderschutz in der Kinder- und Jugendhilfe und den Hilfen zu
 r Erziehung (HzE)\nAusführliche Beschreibung: Kinder und Jugendliche unser
 er Gesellschaft\, die durch konkrete Lebensumstände in ihrer Entwicklung g
 efährdet sind\, bedürfen den besonderen Schutz unserer staatlichen Gemeins
 chaft. Das Kinder- und Jugendstärkungsgesetz (KJSG) zielt darauf ab\, mit 
 Hilfe frühzeitiger und niedrigschwelliger Unterstützung\, durch mehr Berat
 ung und Beteiligung alle jungen Menschen in ihren Rechten auf Teilhabe\, 
 \nförderliche Entwicklung und ihren Schutz weiter zu stärken.\nSystemische
 s Wissen hilft sowohl bei der Einschätzung als auch bei dem Prozess der Hi
 lfeplanung und der Erarbeitung passgenauer Schutzkonzepte.\nInternetadress
 e (eigene Infos im Internet): https://www.rg-diakonie.de/aus-und-weiterbil
 dung/unsere-standorte/zentrum-fuer-lebenslanges-lernen\nFörderbereich: Arb
 eitswelt- und berufsbezogene Weiterbildung\nReferent/in: Anke Lingnau-Card
 uck\, Systemische Familientherapeutin\,\nLehrende für Systemische Beratung
  und Therapie DGSF\nAnsprechpartner/in - Leitung: Rheinische Gesellschaft 
 für Diakonie gGmbH\nZentrum für lebenslanges Lernen\nKosten: 350\,– € incl
 . Verpflegungspauschale\nZusatzinformationen: Bettina Pilz\, Personalentwi
 cklung/Fort- und Weiterbildung\, \nTel. 06541 7009380\, info@zentrum-leben
 slanges-Lernen.de
DTSTART;TZID=Europe/Berlin:20230911T090000
DTEND;TZID=Europe/Berlin:20230911T170000
LOCATION:Traben-Trarbach/Wolf: Zentrum für lebenslanges Lernen – Rheinische
  Gesellschaft für Diakonie gGmbH
RRULE:FREQ=DAILY;UNTIL=20230912T235900Z;INTERVAL=1;WKST=SU
SUMMARY:'Systemischer Kinderschutz' Kurz - Kompakt - Konstruktiv :: 2-tägig
 e Weiterbildung zum Systemischen Kinderschutz in der Kinder- und Jugendhil
 fe und den Hilfen zur Erziehung (HzE)
URL:https://termine.ekir.de/veranstaltung_im_detail719526.html
END:VEVENT
END:VCALENDAR
