BEGIN:VCALENDAR
VERSION:2.0
PRODID:-//evangelische-termine.de//NONSGML kigkonsult.se iCalcreator 2.18//
CALSCALE:GREGORIAN
METHOD:PUBLISH
X-WR-CALNAME:iCal Evangelische-Termine 19.04.2026
X-WR-CALDESC:iCalender von Evangelische-Termine (19.04.2026)
X-WR-TIMEZONE:Europe/Berlin
X-MS-OLK-FORCEINSPECTOROPEN:TRUE
BEGIN:VTIMEZONE
TZID:Europe/Berlin
BEGIN:STANDARD
DTSTART:19701025T030000
TZOFFSETFROM:+0200
TZOFFSETTO:+0100
RRULE:FREQ=YEARLY;BYDAY=-1SU;BYMONTH=10
TZNAME:CET
END:STANDARD
BEGIN:DAYLIGHT
DTSTART:19700329T020000
TZOFFSETFROM:+0100
TZOFFSETTO:+0200
RRULE:FREQ=YEARLY;BYDAY=-1SU;BYMONTH=3
TZNAME:CEST
END:DAYLIGHT
END:VTIMEZONE
BEGIN:VEVENT
UID:20230919T090000-719527@evangelische-termine.de
DTSTAMP:20260419T175721Z
DESCRIPTION:\nKirchenkreis: überregional\nArt der Veranstaltung: Fortbildun
 gen / Seminare / Vorträge\nVeranstaltungsort: Zentrum für lebenslanges Ler
 nen – Rheinische Gesellschaft für Diakonie gGmbH\nMaiweg 150\n56841 Traben
 -Trarbach/Wolf\nKurzbeschreibung / Untertitel: 2-tägige Weiterbildung zu G
 rundlagen der Traumapädagogik in der Kinder- und Jugendhilfe\nAusführliche
  Beschreibung: In den stationären Einrichtungen der Jugendhilfe leben viel
 e leiderfahrene und traumatisierte Mädchen und Jungen. Die Folgen der Beei
 nträchtigungen\, die\ndie jungen Menschen erleiden mussten haben Auswirkun
 gen auf ihr Denken\, Fühlen\, Handeln und auf ihre körperliche und emotion
 ale Entwicklung.\nDiese lebensgeschichtlich belasteten jungen Menschen ste
 llen aus diesen Gründen besondere Anforderungen an die in der Kinder- und 
 Jugendhilfe und Bildungseinrichtungen tätigen Fachpersonen.\nDie Weiterbil
 dung setzt sich mit Fragen wie z.B.: Was kann ich für das Kind\, den Jugen
 dlichen tun?\nWie kann ich mich aber vor Verausgabung und eigener Erschöpf
 ung schützen?\nInternetadresse (eigene Infos im Internet): https://www.rg-
 diakonie.de/aus-und-weiterbildung/unsere-standorte/zentrum-fuer-lebenslang
 es-lernen\nFörderbereich: Arbeitswelt- und berufsbezogene Weiterbildung\nR
 eferent/in: Monika Lutz\, Dipl.-Päd.\, Traumatherapeutin\nAnsprechpartner/
 in - Leitung: Rheinische Gesellschaft für Diakonie gGmbH\nZentrum für lebe
 nslanges Lernen\nKosten: 350\,– € incl. Verpflegungspauschale\nZusatzinfor
 mationen: Bettina Pilz\, Personalentwicklung/Fort- und Weiterbildung\, \nT
 el. 06541 7009380\, info@zentrum-lebenslanges-Lernen.de
DTSTART;TZID=Europe/Berlin:20230919T090000
DTEND;TZID=Europe/Berlin:20230919T170000
LOCATION:Traben-Trarbach/Wolf: Zentrum für lebenslanges Lernen – Rheinische
  Gesellschaft für Diakonie gGmbH
RRULE:FREQ=DAILY;UNTIL=20230920T235900Z;INTERVAL=1;WKST=SU
SUMMARY:Grundlagen der Traumapädagogik :: 2-tägige Weiterbildung zu Grundla
 gen der Traumapädagogik in der Kinder- und Jugendhilfe
URL:https://termine.ekir.de/veranstaltung_im_detail719527.html
END:VEVENT
END:VCALENDAR
