BEGIN:VCALENDAR
VERSION:2.0
PRODID:-//evangelische-termine.de//NONSGML kigkonsult.se iCalcreator 2.18//
CALSCALE:GREGORIAN
METHOD:PUBLISH
X-WR-CALNAME:iCal Evangelische-Termine 19.04.2026
X-WR-CALDESC:iCalender von Evangelische-Termine (19.04.2026)
X-WR-TIMEZONE:Europe/Berlin
X-MS-OLK-FORCEINSPECTOROPEN:TRUE
BEGIN:VTIMEZONE
TZID:Europe/Berlin
BEGIN:STANDARD
DTSTART:19701025T030000
TZOFFSETFROM:+0200
TZOFFSETTO:+0100
RRULE:FREQ=YEARLY;BYDAY=-1SU;BYMONTH=10
TZNAME:CET
END:STANDARD
BEGIN:DAYLIGHT
DTSTART:19700329T020000
TZOFFSETFROM:+0100
TZOFFSETTO:+0200
RRULE:FREQ=YEARLY;BYDAY=-1SU;BYMONTH=3
TZNAME:CEST
END:DAYLIGHT
END:VTIMEZONE
BEGIN:VEVENT
UID:20231009T090000-719528@evangelische-termine.de
DTSTAMP:20260419T173136Z
DESCRIPTION:\nKirchenkreis: überregional\nArt der Veranstaltung: Fortbildun
 gen / Seminare / Vorträge\nVeranstaltungsort: Zentrum für lebenslanges Ler
 nen – Rheinische Gesellschaft für Diakonie gGmbH\nMaiweg 150\n56841 Traben
 -Trarbach/Wolf\nKurzbeschreibung / Untertitel: 2-tägige Weiterbildung zu S
 ystemischen Netzwerkkompetenzen in der Kinder- und Jugendhilfe und den Hil
 fen zur Erziehung (HzE)\nAusführliche Beschreibung: Für Fachkräfte in den 
 Kontexten psychosozialer Arbeit gehört es vielfach gleichermaßen zu ihrem 
 Selbstverständnis wie zu ihrem Anforderungsprofil\,\nsich an Netzwerken zu
  beteiligen\, sie zu erschaffen oder auch zu koordinieren.\nDie Weiterbild
 ung eröffnet einen Raum für Wissenserweiterung\, Austausch und Ausprobiere
 n zu diesen vielfältigen Aspekten. Wir reflektieren und entwickeln\nein sy
 stemisches Verständnis von Kooperation und Netzwerken\, greifen die hierfü
 r relevanten theoretischen Grundlagen systemischen Arbeitens auf unter\nde
 r Nutzung systemischer Techniken / Methoden sowie der Realisierung systemi
 scher Haltung.\nInternetadresse (eigene Infos im Internet): https://www.rg
 -diakonie.de/aus-und-weiterbildung/unsere-standorte/zentrum-fuer-lebenslan
 ges-lernen\nFörderbereich: Arbeitswelt- und berufsbezogene Weiterbildung\n
 Referent/in: Anke Lingnau-Carduck\, Systemische Familientherapeutin\,\nLeh
 rende für Systemische Beratung und Therapie DGSF\nAnsprechpartner/in - Lei
 tung: Rheinische Gesellschaft für Diakonie gGmbH\nZentrum für lebenslanges
  Lernen\nKosten: 350\,– € incl. Verpflegungspauschale\nZusatzinformationen
 : Bettina Pilz\, Personalentwicklung/Fort- und Weiterbildung\, \nTel. 0654
 1 7009380\, info@zentrum-lebenslanges-Lernen.de
DTSTART;TZID=Europe/Berlin:20231009T090000
DTEND;TZID=Europe/Berlin:20231009T170000
LOCATION:Traben-Trarbach/Wolf: Zentrum für lebenslanges Lernen – Rheinische
  Gesellschaft für Diakonie gGmbH
RRULE:FREQ=DAILY;UNTIL=20231010T235900Z;INTERVAL=1;WKST=SU
SUMMARY:„Systemische Netzwerkkompetenzen für gelingende Kooperationen“ Kurz
  – Kompakt – Konstruktiv :: 2-tägige Weiterbildung zu Systemischen Netzwer
 kkompetenzen in der Kinder- und Jugendhilfe und den Hilfen zur Erziehung (
 HzE)
URL:https://termine.ekir.de/veranstaltung_im_detail719528.html
END:VEVENT
END:VCALENDAR
