BEGIN:VCALENDAR
VERSION:2.0
PRODID:-//evangelische-termine.de//NONSGML kigkonsult.se iCalcreator 2.18//
CALSCALE:GREGORIAN
METHOD:PUBLISH
X-WR-CALNAME:iCal Evangelische-Termine 19.04.2026
X-WR-CALDESC:iCalender von Evangelische-Termine (19.04.2026)
X-WR-TIMEZONE:Europe/Berlin
X-MS-OLK-FORCEINSPECTOROPEN:TRUE
BEGIN:VTIMEZONE
TZID:Europe/Berlin
BEGIN:STANDARD
DTSTART:19701025T030000
TZOFFSETFROM:+0200
TZOFFSETTO:+0100
RRULE:FREQ=YEARLY;BYDAY=-1SU;BYMONTH=10
TZNAME:CET
END:STANDARD
BEGIN:DAYLIGHT
DTSTART:19700329T020000
TZOFFSETFROM:+0100
TZOFFSETTO:+0200
RRULE:FREQ=YEARLY;BYDAY=-1SU;BYMONTH=3
TZNAME:CEST
END:DAYLIGHT
END:VTIMEZONE
BEGIN:VEVENT
UID:20231029T110000-719914@evangelische-termine.de
DTSTAMP:20260419T173223Z
DESCRIPTION:\nKirchenkreis: überregional\nArt der Veranstaltung: Fortbildun
 gen / Seminare / Vorträge\nVeranstaltungsort: Theologisches Quartett Trier
  e.V.\nDomfreihof 1b\n54290 Trier\nKurzbeschreibung / Untertitel: Vortrag 
 mit Diskussion\nInternetadresse (eigene Infos im Internet): https://www.tq
 t-trier.de/index.php/aktivitaeten-veranstaltungen\nFörderbereich: Religiös
 e Bildung\, Religionen\, Theologie\, Ethik\, Grenzfragen\nReferent/in: Pro
 f. Dr. Katajun Amirpur\, Universität Köln\nAnsprechpartner/in - Leitung: T
 heologisches Quartett Trier e.V.\nKosten: kostenlos\nZusatzinformationen: 
 Keine Anmeldeung erforderlich
DTSTART;TZID=Europe/Berlin:20231029T110000
DTEND;TZID=Europe/Berlin:20231029T120000
LOCATION:Trier: Theologisches Quartett Trier e.V.
SUMMARY:Frau\, Leben\, Freiheit Gibt es einen Reform-Islam? - Kopie :: Vort
 rag mit Diskussion
URL:https://termine.ekir.de/veranstaltung_im_detail719914.html
END:VEVENT
END:VCALENDAR
