BEGIN:VCALENDAR
VERSION:2.0
PRODID:-//evangelische-termine.de//NONSGML kigkonsult.se iCalcreator 2.18//
CALSCALE:GREGORIAN
METHOD:PUBLISH
X-WR-CALNAME:iCal Evangelische-Termine 19.04.2026
X-WR-CALDESC:iCalender von Evangelische-Termine (19.04.2026)
X-WR-TIMEZONE:Europe/Berlin
X-MS-OLK-FORCEINSPECTOROPEN:TRUE
BEGIN:VTIMEZONE
TZID:Europe/Berlin
BEGIN:STANDARD
DTSTART:19701025T030000
TZOFFSETFROM:+0200
TZOFFSETTO:+0100
RRULE:FREQ=YEARLY;BYDAY=-1SU;BYMONTH=10
TZNAME:CET
END:STANDARD
BEGIN:DAYLIGHT
DTSTART:19700329T020000
TZOFFSETFROM:+0100
TZOFFSETTO:+0200
RRULE:FREQ=YEARLY;BYDAY=-1SU;BYMONTH=3
TZNAME:CEST
END:DAYLIGHT
END:VTIMEZONE
BEGIN:VEVENT
UID:20231118T180000-719916@evangelische-termine.de
DTSTAMP:20260419T192644Z
DESCRIPTION:\nKirchenkreis: überregional\nArt der Veranstaltung: Fortbildun
 gen / Seminare / Vorträge\nVeranstaltungsort: Autobahn- und Radwegskirche 
 St. Paul in Wittlich\nArnold-Janssen-Straße 1\n54516 Wittlich\nKurzbeschre
 ibung / Untertitel: Vortrag mit Diskussion\nInternetadresse (eigene Infos 
 im Internet): http://www.autobahnkirche-stpaul.de/Termine.html\nFörderbere
 ich: Gesellschaft\, Politik und Wirtschaft\nReferent/in: Albrecht Bähr\, e
 v. Pfarrer und Sprecher der Arbeitsgemeinschaft Diakonie Rheinland-\nPfalz
 \nAnsprechpartner/in - Leitung: Förderverein Autobahnkirche St. Paul Wittl
 ich e.V.\nKosten: kostenlos\nZusatzinformationen: Keine Anmeldeung erforde
 rlich
DTSTART;TZID=Europe/Berlin:20231118T180000
DTEND;TZID=Europe/Berlin:20231118T190000
LOCATION:Wittlich: Autobahn- und Radwegskirche St. Paul in Wittlich
SUMMARY:Die Rolle der kirchlichen Wohlfahrtsorganisationen heute :: Vortrag
  mit Diskussion
URL:https://termine.ekir.de/veranstaltung_im_detail719916.html
END:VEVENT
END:VCALENDAR
