BEGIN:VCALENDAR
VERSION:2.0
PRODID:-//evangelische-termine.de//NONSGML kigkonsult.se iCalcreator 2.18//
CALSCALE:GREGORIAN
METHOD:PUBLISH
X-WR-CALNAME:iCal Evangelische-Termine 19.04.2026
X-WR-CALDESC:iCalender von Evangelische-Termine (19.04.2026)
X-WR-TIMEZONE:Europe/Berlin
X-MS-OLK-FORCEINSPECTOROPEN:TRUE
BEGIN:VTIMEZONE
TZID:Europe/Berlin
BEGIN:STANDARD
DTSTART:19701025T030000
TZOFFSETFROM:+0200
TZOFFSETTO:+0100
RRULE:FREQ=YEARLY;BYDAY=-1SU;BYMONTH=10
TZNAME:CET
END:STANDARD
BEGIN:DAYLIGHT
DTSTART:19700329T020000
TZOFFSETFROM:+0100
TZOFFSETTO:+0200
RRULE:FREQ=YEARLY;BYDAY=-1SU;BYMONTH=3
TZNAME:CEST
END:DAYLIGHT
END:VTIMEZONE
BEGIN:VEVENT
UID:20231119T110000-719917@evangelische-termine.de
DTSTAMP:20260419T192757Z
DESCRIPTION:\nKirchenkreis: überregional\nArt der Veranstaltung: Fortbildun
 gen / Seminare / Vorträge\nVeranstaltungsort: Theologisches Quartett Trier
  e.V.\nDomfreihof 1b\n54290 Trier\nKurzbeschreibung / Untertitel: Vortrag 
 mit Diskussion\nInternetadresse (eigene Infos im Internet): https://www.tq
 t-trier.de/index.php/aktivitaeten-veranstaltungen\nFörderbereich: Gesellsc
 haft\, Politik und Wirtschaft\nReferent/in: Albrecht Bähr\, ev. Pfarrer un
 d Sprecher der Arbeitsgemeinschaft Diakonie Rheinland-\nPfalz\nAnsprechpar
 tner/in - Leitung: Theologisches Quartett Trier e.V.\nKosten: kostenlos\nZ
 usatzinformationen: Keine Anmeldeung erforderlich
DTSTART;TZID=Europe/Berlin:20231119T110000
DTEND;TZID=Europe/Berlin:20231119T120000
LOCATION:Trier: Theologisches Quartett Trier e.V.
SUMMARY:Die Rolle der kirchlichen Wohlfahrtsorganisationen heute :: Vortrag
  mit Diskussion
URL:https://termine.ekir.de/veranstaltung_im_detail719917.html
END:VEVENT
END:VCALENDAR
